BEGIN:VCALENDAR
VERSION:2.0
PRODID:-//Panhandle Health Alliance - ECPv6.4.0//NONSGML v1.0//EN
CALSCALE:GREGORIAN
METHOD:PUBLISH
X-WR-CALNAME:Panhandle Health Alliance
X-ORIGINAL-URL:https://panhandlehealthalliance.com
X-WR-CALDESC:Events for Panhandle Health Alliance
REFRESH-INTERVAL;VALUE=DURATION:PT1H
X-Robots-Tag:noindex
X-PUBLISHED-TTL:PT1H
BEGIN:VTIMEZONE
TZID:UTC
BEGIN:STANDARD
TZOFFSETFROM:+0000
TZOFFSETTO:+0000
TZNAME:UTC
DTSTART:20230101T000000
END:STANDARD
END:VTIMEZONE
BEGIN:VEVENT
DTSTART;TZID=UTC:20240213T100000
DTEND;TZID=UTC:20240213T140000
DTSTAMP:20260424T152606
CREATED:20240201T162235Z
LAST-MODIFIED:20240201T162235Z
UID:10000092-1707818400-1707832800@panhandlehealthalliance.com
SUMMARY:Community Health Fair
DESCRIPTION:
URL:https://panhandlehealthalliance.com/event/community-health-fair-2/
ATTACH;FMTTYPE=image/jpeg:https://panhandlehealthalliance.com/wp-content/uploads/2024/02/Blue-Health-Fair-Community-Day-Flyer-1-Made-with-PosterMyWall-1-1.jpg
END:VEVENT
BEGIN:VEVENT
DTSTART;TZID=UTC:20240213T100000
DTEND;TZID=UTC:20240213T140000
DTSTAMP:20260424T152606
CREATED:20240116T170703Z
LAST-MODIFIED:20240116T170703Z
UID:10000089-1707818400-1707832800@panhandlehealthalliance.com
SUMMARY:Community Health Fair
DESCRIPTION:
URL:https://panhandlehealthalliance.com/event/community-health-fair/
ATTACH;FMTTYPE=image/jpeg:https://panhandlehealthalliance.com/wp-content/uploads/2024/01/Blue-Health-Fair-Community-Day-Flyer-1-Made-with-PosterMyWall-1.jpg
END:VEVENT
BEGIN:VEVENT
DTSTART;TZID=UTC:20240210T100000
DTEND;TZID=UTC:20240210T150000
DTSTAMP:20260424T152606
CREATED:20240116T162141Z
LAST-MODIFIED:20240116T162141Z
UID:10000073-1707559200-1707577200@panhandlehealthalliance.com
SUMMARY:Annual Community Health Fair
DESCRIPTION:
URL:https://panhandlehealthalliance.com/event/annual-community-health-fair/
ATTACH;FMTTYPE=image/jpeg:https://panhandlehealthalliance.com/wp-content/uploads/2024/01/2024-Health-Fair-Flyer.jpg
END:VEVENT
BEGIN:VEVENT
DTSTART;TZID=UTC:20240207T110000
DTEND;TZID=UTC:20240207T150000
DTSTAMP:20260424T152606
CREATED:20240201T162410Z
LAST-MODIFIED:20240201T162410Z
UID:10000093-1707303600-1707318000@panhandlehealthalliance.com
SUMMARY:National Black HIV/AIDS Awareness Day
DESCRIPTION:
URL:https://panhandlehealthalliance.com/event/national-black-hiv-aids-awareness-day/
ATTACH;FMTTYPE=application/pdf:https://panhandlehealthalliance.com/wp-content/uploads/2024/02/NBHAAD-BOLD.pdf
END:VEVENT
BEGIN:VEVENT
DTSTART;TZID=UTC:20240206T183000
DTEND;TZID=UTC:20240206T203000
DTSTAMP:20260424T152606
CREATED:20240116T164553Z
LAST-MODIFIED:20240116T164553Z
UID:10000079-1707244200-1707251400@panhandlehealthalliance.com
SUMMARY:Free 6-Weeks Basic Skill Training
DESCRIPTION:
URL:https://panhandlehealthalliance.com/event/free-6-weeks-basic-skill-training/
ATTACH;FMTTYPE=application/pdf:https://panhandlehealthalliance.com/wp-content/uploads/2024/01/Winter-2024-Flyer-Construction-Class-1.pdf
END:VEVENT
BEGIN:VEVENT
DTSTART;TZID=UTC:20240206T080000
DTEND;TZID=UTC:20240210T170000
DTSTAMP:20260424T152606
CREATED:20240201T163412Z
LAST-MODIFIED:20240201T163412Z
UID:10000099-1707206400-1707584400@panhandlehealthalliance.com
SUMMARY:AMIKids Youthbuild Program
DESCRIPTION:
URL:https://panhandlehealthalliance.com/event/amikids-youthbuild-program/
ATTACH;FMTTYPE=application/pdf:https://panhandlehealthalliance.com/wp-content/uploads/2024/02/AMIKids-Youthbuild-Overview.pdf
END:VEVENT
BEGIN:VEVENT
DTSTART;TZID=UTC:20240203T090000
DTEND;TZID=UTC:20240203T130000
DTSTAMP:20260424T152606
CREATED:20240201T162934Z
LAST-MODIFIED:20240201T162934Z
UID:10000096-1706950800-1706965200@panhandlehealthalliance.com
SUMMARY:Bay County Job Fair
DESCRIPTION:February 3 @ 9:00 am – 1:00 pm\nEmployer registration is now open for the 37th Annual Bay County Job Fair\, which is coming back to town on February 3\, 2024. The event will feature 60+ top employers from a variety of industries with hundreds of career opportunities for job seekers of levels of experience. \nSpace is limited for this free event. \nEmployers with open jobs may register at this link:  https://www.surveymonkey.com/r/baycountyjobfair2024 \nGulf Coast State College\, Student Union East
URL:https://panhandlehealthalliance.com/event/bay-county-job-fair/
END:VEVENT
BEGIN:VEVENT
DTSTART;TZID=UTC:20240202T080000
DTEND;TZID=UTC:20240202T170000
DTSTAMP:20260424T152606
CREATED:20240201T163059Z
LAST-MODIFIED:20240201T163114Z
UID:10000097-1706860800-1706893200@panhandlehealthalliance.com
SUMMARY:Mental Health of Bay County Jan Newsletter
DESCRIPTION:
URL:https://panhandlehealthalliance.com/event/mental-health-of-bay-county-jan-newsletter/
END:VEVENT
BEGIN:VEVENT
DTSTART;TZID=UTC:20240201T110000
DTEND;TZID=UTC:20240201T140000
DTSTAMP:20260424T152606
CREATED:20240201T162619Z
LAST-MODIFIED:20240201T162619Z
UID:10000094-1706785200-1706796000@panhandlehealthalliance.com
SUMMARY:Quarterly RCORP PROP Consortium Meeting
DESCRIPTION:Where: Jackson County Department of Health \n4979 Healthy Way\, Marianna\, FL 32446 \n  \nPANHANDE RURAL OPIOID PROJECT \nA consortium of community partners dedicated to opioid education\, community enrichment\, and stigma reduction in the Panhandle of Florida. \n  \nAgenda \nIntroduction of Members/Staff \nKiosk Pickups \nNew sites for kiosks \nStaff changes \nUpcoming dates of the mobile unit \nAMHFA/YMHFA trainings \n  \nWe hope to see you there!
URL:https://panhandlehealthalliance.com/event/quarterly-rcorp-prop-consortium-meeting/
END:VEVENT
BEGIN:VEVENT
DTSTART;TZID=UTC:20240201T080000
DTEND;TZID=UTC:20240201T170000
DTSTAMP:20260424T152606
CREATED:20240201T161853Z
LAST-MODIFIED:20240201T161853Z
UID:10000090-1706774400-1706806800@panhandlehealthalliance.com
SUMMARY:February Community Health Fair
DESCRIPTION:Address: 1041 Harrison Ave. \nSet up time: Starts at 8 am (We will have areas marked off for vendors) \nEnd time: 2 pm \n  \nThere will be free hot dogs and chips! \n  \nLastly\, we still have a few spots left so spread the word to your health care colleagues in the community!
URL:https://panhandlehealthalliance.com/event/february-community-health-fair/
END:VEVENT
BEGIN:VEVENT
DTSTART;TZID=UTC:20240131T110000
DTEND;TZID=UTC:20240131T153000
DTSTAMP:20260424T152606
CREATED:20240116T170019Z
LAST-MODIFIED:20240116T170019Z
UID:10000084-1706698800-1706715000@panhandlehealthalliance.com
SUMMARY:Transportation Planning Organization (TPO) January Meeting
DESCRIPTION:
URL:https://panhandlehealthalliance.com/event/transportation-planning-organization-tpo-january-meeting/
ATTACH;FMTTYPE=application/pdf:https://panhandlehealthalliance.com/wp-content/uploads/2024/01/BAY-TPO-Meeting-Schedule-2024.pdf
END:VEVENT
BEGIN:VEVENT
DTSTART;VALUE=DATE:20240131
DTEND;VALUE=DATE:20240201
DTSTAMP:20260424T152606
CREATED:20240116T165434Z
LAST-MODIFIED:20240116T165434Z
UID:10000083-1706659200-1706745599@panhandlehealthalliance.com
SUMMARY:Gleenwood Community Survey
DESCRIPTION:The Florida Department of Health in Bay County in collaboration with the Bay County Health Equity Taskforce and Community Partners is conducting a PACE-EH Survey for the Glenwood Community.  This survey will help in prioritizing community needs and projects.  They are asking for your help in getting the word out by sharing the below surveys.  These surveys are to be completed by anyone who works or lives in the Glenwood Community.  If you’ve any additional questions\, please contact Dixie Williams at dixie.williams@flhealth.gov. \nEnglish \nhttps://forms.office.com/g/2wdWCygqck \nhttps://forms.office.com/Pages/ResponsePage.aspx?id=gI_NKEQ8J0uBoM0rA6MbjfZ1VkLy7VZNuq9LGww51rhUQlRUMElMQTg1Qk1MQUxLQVlIUkk5WkMyRy4u \n\nSpanish \nhttps://forms.office.com/g/hZdAGzH930 \nhttps://forms.office.com/Pages/ResponsePage.aspx?id=gI_NKEQ8J0uBoM0rA6MbjZfqgxwichFLuWeUlq0nTVtUQ1VPS0tVTEhKWk9CSDRQWEtFSjNLSjFQNS4u
URL:https://panhandlehealthalliance.com/event/gleenwood-community-survey/
END:VEVENT
BEGIN:VEVENT
DTSTART;TZID=UTC:20240130T080000
DTEND;TZID=UTC:20240202T170000
DTSTAMP:20260424T152606
CREATED:20240116T162924Z
LAST-MODIFIED:20240116T162924Z
UID:10000078-1706601600-1706893200@panhandlehealthalliance.com
SUMMARY:Behavioral Health Support Program Event (Mariana)
DESCRIPTION:
URL:https://panhandlehealthalliance.com/event/behavioral-health-support-program-event-mariana-2/
ATTACH;FMTTYPE=application/pdf:https://panhandlehealthalliance.com/wp-content/uploads/2024/01/Januaryy-2024-FLYER-4.pdf
END:VEVENT
BEGIN:VEVENT
DTSTART;TZID=UTC:20240127T100000
DTEND;TZID=UTC:20240127T120000
DTSTAMP:20260424T152606
CREATED:20240116T160932Z
LAST-MODIFIED:20240116T160932Z
UID:10000071-1706349600-1706356800@panhandlehealthalliance.com
SUMMARY:SCARS Sexual Abuse Online Training
DESCRIPTION:
URL:https://panhandlehealthalliance.com/event/scars-sexual-abuse-online-training/
ATTACH;FMTTYPE=image/jpeg:https://panhandlehealthalliance.com/wp-content/uploads/2024/01/corporate116-2-1.jpg
END:VEVENT
BEGIN:VEVENT
DTSTART;TZID=UTC:20240126T170000
DTEND;TZID=UTC:20240126T190000
DTSTAMP:20260424T152606
CREATED:20240116T165236Z
LAST-MODIFIED:20240116T165236Z
UID:10000082-1706288400-1706295600@panhandlehealthalliance.com
SUMMARY:6 Week Wellness Bootcamp
DESCRIPTION:
URL:https://panhandlehealthalliance.com/event/6-week-wellness-bootcamp/
ATTACH;FMTTYPE=image/png:https://panhandlehealthalliance.com/wp-content/uploads/2024/01/Wellness-Bootcamp-2.png
END:VEVENT
BEGIN:VEVENT
DTSTART;TZID=UTC:20240125T080000
DTEND;TZID=UTC:20240130T170000
DTSTAMP:20260424T152606
CREATED:20240116T160655Z
LAST-MODIFIED:20240116T160655Z
UID:10000070-1706169600-1706634000@panhandlehealthalliance.com
SUMMARY:POINT-IN-TIME- Homelessness Initiative
DESCRIPTION:
URL:https://panhandlehealthalliance.com/event/point-in-time-homelessness-initiative/
ATTACH;FMTTYPE=application/pdf:https://panhandlehealthalliance.com/wp-content/uploads/2024/01/NWFL-PIT-Volunteer-Flyer.pdf
END:VEVENT
BEGIN:VEVENT
DTSTART;TZID=UTC:20240123T080000
DTEND;TZID=UTC:20240126T170000
DTSTAMP:20260424T152606
CREATED:20240116T162732Z
LAST-MODIFIED:20240116T162732Z
UID:10000077-1705996800-1706288400@panhandlehealthalliance.com
SUMMARY:Behavioral Health Support Program Event (Blountstown)
DESCRIPTION:
URL:https://panhandlehealthalliance.com/event/behavioral-health-support-program-event-blountstown/
ATTACH;FMTTYPE=application/pdf:https://panhandlehealthalliance.com/wp-content/uploads/2024/01/Januaryy-2024-FLYER-3.pdf
END:VEVENT
BEGIN:VEVENT
DTSTART;TZID=UTC:20240122T080000
DTEND;TZID=UTC:20240123T170000
DTSTAMP:20260424T152606
CREATED:20240201T162819Z
LAST-MODIFIED:20240201T162840Z
UID:10000095-1705910400-1706029200@panhandlehealthalliance.com
SUMMARY:LeakyLee 24-Hour Daycare open enrollment
DESCRIPTION:
URL:https://panhandlehealthalliance.com/event/leakylee-24-hour-daycare-open-enrollment/
ATTACH;FMTTYPE=image/jpeg:https://panhandlehealthalliance.com/wp-content/uploads/2024/02/enrollmentspecial.1.22.23.jpg
END:VEVENT
BEGIN:VEVENT
DTSTART;TZID=UTC:20240120T080000
DTEND;TZID=UTC:20240125T170000
DTSTAMP:20260424T152606
CREATED:20240116T161311Z
LAST-MODIFIED:20240116T161311Z
UID:10000072-1705737600-1706202000@panhandlehealthalliance.com
SUMMARY:Big Bend Area Health Education Center
DESCRIPTION:
URL:https://panhandlehealthalliance.com/event/big-bend-area-health-education-center/
ATTACH;FMTTYPE=application/pdf:https://panhandlehealthalliance.com/wp-content/uploads/2024/01/2023-BBAHEC-Quad-Flyer-4.pdf
END:VEVENT
BEGIN:VEVENT
DTSTART;TZID=UTC:20240117T100000
DTEND;TZID=UTC:20240117T120000
DTSTAMP:20260424T152606
CREATED:20231106T161150Z
LAST-MODIFIED:20231106T161150Z
UID:10000037-1705485600-1705492800@panhandlehealthalliance.com
SUMMARY:PHA Jan Meeting
DESCRIPTION:Location: Bay County Library\nTime: 10 AM CST  January 17th 2024\nContact: Brandy Mankin Brandy.mankin@flhealth.gov
URL:https://panhandlehealthalliance.com/event/pha-jan-meeting/
END:VEVENT
BEGIN:VEVENT
DTSTART;TZID=UTC:20240117T080000
DTEND;TZID=UTC:20240117T170000
DTSTAMP:20260424T152606
CREATED:20240201T163234Z
LAST-MODIFIED:20240201T163234Z
UID:10000098-1705478400-1705510800@panhandlehealthalliance.com
SUMMARY:Warming Center Extension. Volunteers Needed!
DESCRIPTION:
URL:https://panhandlehealthalliance.com/event/warming-center-extension-volunteers-needed/
ATTACH;FMTTYPE=application/pdf:https://panhandlehealthalliance.com/wp-content/uploads/2024/02/Warming-Center-Extension.pdf
END:VEVENT
BEGIN:VEVENT
DTSTART;TZID=UTC:20240116T173000
DTEND;TZID=UTC:20240116T183000
DTSTAMP:20260424T152607
CREATED:20240116T165040Z
LAST-MODIFIED:20240116T165040Z
UID:10000081-1705426200-1705429800@panhandlehealthalliance.com
SUMMARY:Disability Support Group
DESCRIPTION:ABLE Support Group\nSharing encouragement\, strength\, and\nhope within the disabled community \nSpeaker: Family Service Agency\nMeeting: January 16th 2024/5:30-6:30 \nFamily Service Agency\n114 E. 9th St. PC\, FL. 32401 \nFor more information:Judy 314.585.1307\nAngie 850.896.9712
URL:https://panhandlehealthalliance.com/event/disability-support-group/
END:VEVENT
BEGIN:VEVENT
DTSTART;TZID=UTC:20240116T080000
DTEND;TZID=UTC:20240119T170000
DTSTAMP:20260424T152607
CREATED:20240116T162609Z
LAST-MODIFIED:20240116T162609Z
UID:10000076-1705392000-1705683600@panhandlehealthalliance.com
SUMMARY:Behavioral Health Support Program Event (Eastpoint)
DESCRIPTION:
URL:https://panhandlehealthalliance.com/event/behavioral-health-support-program-event-eastpoint/
ATTACH;FMTTYPE=application/pdf:https://panhandlehealthalliance.com/wp-content/uploads/2024/01/Januaryy-2024-FLYER-2.pdf
END:VEVENT
BEGIN:VEVENT
DTSTART;TZID=UTC:20240109T080000
DTEND;TZID=UTC:20240112T170000
DTSTAMP:20260424T152607
CREATED:20240116T162510Z
LAST-MODIFIED:20240116T162510Z
UID:10000075-1704787200-1705078800@panhandlehealthalliance.com
SUMMARY:Behavioral Health Support Program Event (Port St. Joe)
DESCRIPTION:
URL:https://panhandlehealthalliance.com/event/behavioral-health-support-program-event-port-st-joe/
ATTACH;FMTTYPE=application/pdf:https://panhandlehealthalliance.com/wp-content/uploads/2024/01/Januaryy-2024-FLYER-1.pdf
END:VEVENT
BEGIN:VEVENT
DTSTART;TZID=UTC:20240102T080000
DTEND;TZID=UTC:20240105T170000
DTSTAMP:20260424T152607
CREATED:20240116T162425Z
LAST-MODIFIED:20240116T162425Z
UID:10000074-1704182400-1704474000@panhandlehealthalliance.com
SUMMARY:Behavioral Health Support Program Event (Mariana)
DESCRIPTION:
URL:https://panhandlehealthalliance.com/event/behavioral-health-support-program-event-mariana/
ATTACH;FMTTYPE=application/pdf:https://panhandlehealthalliance.com/wp-content/uploads/2024/01/Januaryy-2024-FLYER.pdf
END:VEVENT
BEGIN:VEVENT
DTSTART;TZID=UTC:20231230T100000
DTEND;TZID=UTC:20231230T170000
DTSTAMP:20260424T152607
CREATED:20230630T132543Z
LAST-MODIFIED:20230630T132543Z
UID:10000026-1703930400-1703955600@panhandlehealthalliance.com
SUMMARY:Healthy Families Bay Advisory Board
DESCRIPTION:Location: Virtual\nTime: 10 AM CST. Contact for date\nContact: Amy Taylor    ATaylor@lmccares.org
URL:https://panhandlehealthalliance.com/event/healthy-families-bay-advisory-board/
END:VEVENT
BEGIN:VEVENT
DTSTART;TZID=UTC:20231229T080000
DTEND;TZID=UTC:20231229T170000
DTSTAMP:20260424T152607
CREATED:20230629T193602Z
LAST-MODIFIED:20230629T193602Z
UID:10000014-1703836800-1703869200@panhandlehealthalliance.com
SUMMARY:Circuit 14 Juvenile Justice Council (JCC)
DESCRIPTION:Contact: Michael Johnson (863) 558-0331 mjohnson@pcgov.org
URL:https://panhandlehealthalliance.com/event/circuit-14-juvenile-justice-council-jcc/
END:VEVENT
BEGIN:VEVENT
DTSTART;TZID=UTC:20231229T080000
DTEND;TZID=UTC:20231229T170000
DTSTAMP:20260424T152607
CREATED:20230629T192700Z
LAST-MODIFIED:20230629T192717Z
UID:10000012-1703836800-1703869200@panhandlehealthalliance.com
SUMMARY:Circuit 14 Community Advisory Board
DESCRIPTION:Contact: Michael Johnson\n(863) 558-0331\nmjohnson@pcgov.org
URL:https://panhandlehealthalliance.com/event/circuit-14-community-advisory-board/
END:VEVENT
BEGIN:VEVENT
DTSTART;TZID=UTC:20231219T080000
DTEND;TZID=UTC:20231221T170000
DTSTAMP:20260424T152607
CREATED:20231128T204203Z
LAST-MODIFIED:20231128T204203Z
UID:10000066-1702972800-1703178000@panhandlehealthalliance.com
SUMMARY:Calhoun County Health Care Support
DESCRIPTION:
URL:https://panhandlehealthalliance.com/event/calhoun-county-health-care-support/
ATTACH;FMTTYPE=application/pdf:https://panhandlehealthalliance.com/wp-content/uploads/2023/11/December-2023-flyer.pdf
END:VEVENT
BEGIN:VEVENT
DTSTART;TZID=UTC:20231218T080000
DTEND;TZID=UTC:20231221T170000
DTSTAMP:20260424T152607
CREATED:20231208T151101Z
LAST-MODIFIED:20231208T151101Z
UID:10000069-1702886400-1703178000@panhandlehealthalliance.com
SUMMARY:Behavioral Health Care at Calhoun Liberty Hospital
DESCRIPTION:
URL:https://panhandlehealthalliance.com/event/behavioral-health-care-at-calhoun-liberty-hospital/
ATTACH;FMTTYPE=application/pdf:https://panhandlehealthalliance.com/wp-content/uploads/2023/12/BH-Flyer-Ryan-white-1.pdf
END:VEVENT
END:VCALENDAR