BEGIN:VCALENDAR
VERSION:2.0
PRODID:-//Panhandle Health Alliance - ECPv6.4.0//NONSGML v1.0//EN
CALSCALE:GREGORIAN
METHOD:PUBLISH
X-WR-CALNAME:Panhandle Health Alliance
X-ORIGINAL-URL:https://panhandlehealthalliance.com
X-WR-CALDESC:Events for Panhandle Health Alliance
REFRESH-INTERVAL;VALUE=DURATION:PT1H
X-Robots-Tag:noindex
X-PUBLISHED-TTL:PT1H
BEGIN:VTIMEZONE
TZID:UTC
BEGIN:STANDARD
TZOFFSETFROM:+0000
TZOFFSETTO:+0000
TZNAME:UTC
DTSTART:20230101T000000
END:STANDARD
END:VTIMEZONE
BEGIN:VEVENT
DTSTART;TZID=UTC:20240117T100000
DTEND;TZID=UTC:20240117T120000
DTSTAMP:20260425T153045
CREATED:20231106T161150Z
LAST-MODIFIED:20231106T161150Z
UID:10000037-1705485600-1705492800@panhandlehealthalliance.com
SUMMARY:PHA Jan Meeting
DESCRIPTION:Location: Bay County Library\nTime: 10 AM CST  January 17th 2024\nContact: Brandy Mankin Brandy.mankin@flhealth.gov
URL:https://panhandlehealthalliance.com/event/pha-jan-meeting/
END:VEVENT
BEGIN:VEVENT
DTSTART;TZID=UTC:20240117T080000
DTEND;TZID=UTC:20240117T170000
DTSTAMP:20260425T153045
CREATED:20240201T163234Z
LAST-MODIFIED:20240201T163234Z
UID:10000098-1705478400-1705510800@panhandlehealthalliance.com
SUMMARY:Warming Center Extension. Volunteers Needed!
DESCRIPTION:
URL:https://panhandlehealthalliance.com/event/warming-center-extension-volunteers-needed/
ATTACH;FMTTYPE=application/pdf:https://panhandlehealthalliance.com/wp-content/uploads/2024/02/Warming-Center-Extension.pdf
END:VEVENT
BEGIN:VEVENT
DTSTART;TZID=UTC:20240116T173000
DTEND;TZID=UTC:20240116T183000
DTSTAMP:20260425T153045
CREATED:20240116T165040Z
LAST-MODIFIED:20240116T165040Z
UID:10000081-1705426200-1705429800@panhandlehealthalliance.com
SUMMARY:Disability Support Group
DESCRIPTION:ABLE Support Group\nSharing encouragement\, strength\, and\nhope within the disabled community \nSpeaker: Family Service Agency\nMeeting: January 16th 2024/5:30-6:30 \nFamily Service Agency\n114 E. 9th St. PC\, FL. 32401 \nFor more information:Judy 314.585.1307\nAngie 850.896.9712
URL:https://panhandlehealthalliance.com/event/disability-support-group/
END:VEVENT
BEGIN:VEVENT
DTSTART;TZID=UTC:20240116T080000
DTEND;TZID=UTC:20240119T170000
DTSTAMP:20260425T153045
CREATED:20240116T162609Z
LAST-MODIFIED:20240116T162609Z
UID:10000076-1705392000-1705683600@panhandlehealthalliance.com
SUMMARY:Behavioral Health Support Program Event (Eastpoint)
DESCRIPTION:
URL:https://panhandlehealthalliance.com/event/behavioral-health-support-program-event-eastpoint/
ATTACH;FMTTYPE=application/pdf:https://panhandlehealthalliance.com/wp-content/uploads/2024/01/Januaryy-2024-FLYER-2.pdf
END:VEVENT
BEGIN:VEVENT
DTSTART;TZID=UTC:20240109T080000
DTEND;TZID=UTC:20240112T170000
DTSTAMP:20260425T153045
CREATED:20240116T162510Z
LAST-MODIFIED:20240116T162510Z
UID:10000075-1704787200-1705078800@panhandlehealthalliance.com
SUMMARY:Behavioral Health Support Program Event (Port St. Joe)
DESCRIPTION:
URL:https://panhandlehealthalliance.com/event/behavioral-health-support-program-event-port-st-joe/
ATTACH;FMTTYPE=application/pdf:https://panhandlehealthalliance.com/wp-content/uploads/2024/01/Januaryy-2024-FLYER-1.pdf
END:VEVENT
BEGIN:VEVENT
DTSTART;TZID=UTC:20240102T080000
DTEND;TZID=UTC:20240105T170000
DTSTAMP:20260425T153045
CREATED:20240116T162425Z
LAST-MODIFIED:20240116T162425Z
UID:10000074-1704182400-1704474000@panhandlehealthalliance.com
SUMMARY:Behavioral Health Support Program Event (Mariana)
DESCRIPTION:
URL:https://panhandlehealthalliance.com/event/behavioral-health-support-program-event-mariana/
ATTACH;FMTTYPE=application/pdf:https://panhandlehealthalliance.com/wp-content/uploads/2024/01/Januaryy-2024-FLYER.pdf
END:VEVENT
BEGIN:VEVENT
DTSTART;TZID=UTC:20231230T100000
DTEND;TZID=UTC:20231230T170000
DTSTAMP:20260425T153045
CREATED:20230630T132543Z
LAST-MODIFIED:20230630T132543Z
UID:10000026-1703930400-1703955600@panhandlehealthalliance.com
SUMMARY:Healthy Families Bay Advisory Board
DESCRIPTION:Location: Virtual\nTime: 10 AM CST. Contact for date\nContact: Amy Taylor    ATaylor@lmccares.org
URL:https://panhandlehealthalliance.com/event/healthy-families-bay-advisory-board/
END:VEVENT
BEGIN:VEVENT
DTSTART;TZID=UTC:20231229T080000
DTEND;TZID=UTC:20231229T170000
DTSTAMP:20260425T153045
CREATED:20230629T193602Z
LAST-MODIFIED:20230629T193602Z
UID:10000014-1703836800-1703869200@panhandlehealthalliance.com
SUMMARY:Circuit 14 Juvenile Justice Council (JCC)
DESCRIPTION:Contact: Michael Johnson (863) 558-0331 mjohnson@pcgov.org
URL:https://panhandlehealthalliance.com/event/circuit-14-juvenile-justice-council-jcc/
END:VEVENT
BEGIN:VEVENT
DTSTART;TZID=UTC:20231229T080000
DTEND;TZID=UTC:20231229T170000
DTSTAMP:20260425T153045
CREATED:20230629T192700Z
LAST-MODIFIED:20230629T192717Z
UID:10000012-1703836800-1703869200@panhandlehealthalliance.com
SUMMARY:Circuit 14 Community Advisory Board
DESCRIPTION:Contact: Michael Johnson\n(863) 558-0331\nmjohnson@pcgov.org
URL:https://panhandlehealthalliance.com/event/circuit-14-community-advisory-board/
END:VEVENT
BEGIN:VEVENT
DTSTART;TZID=UTC:20231219T080000
DTEND;TZID=UTC:20231221T170000
DTSTAMP:20260425T153045
CREATED:20231128T204203Z
LAST-MODIFIED:20231128T204203Z
UID:10000066-1702972800-1703178000@panhandlehealthalliance.com
SUMMARY:Calhoun County Health Care Support
DESCRIPTION:
URL:https://panhandlehealthalliance.com/event/calhoun-county-health-care-support/
ATTACH;FMTTYPE=application/pdf:https://panhandlehealthalliance.com/wp-content/uploads/2023/11/December-2023-flyer.pdf
END:VEVENT
BEGIN:VEVENT
DTSTART;TZID=UTC:20231218T080000
DTEND;TZID=UTC:20231221T170000
DTSTAMP:20260425T153045
CREATED:20231208T151101Z
LAST-MODIFIED:20231208T151101Z
UID:10000069-1702886400-1703178000@panhandlehealthalliance.com
SUMMARY:Behavioral Health Care at Calhoun Liberty Hospital
DESCRIPTION:
URL:https://panhandlehealthalliance.com/event/behavioral-health-care-at-calhoun-liberty-hospital/
ATTACH;FMTTYPE=application/pdf:https://panhandlehealthalliance.com/wp-content/uploads/2023/12/BH-Flyer-Ryan-white-1.pdf
END:VEVENT
BEGIN:VEVENT
DTSTART;TZID=UTC:20231215T170000
DTEND;TZID=UTC:20231215T200000
DTSTAMP:20260425T153045
CREATED:20231108T154436Z
LAST-MODIFIED:20231205T141139Z
UID:10000053-1702659600-1702670400@panhandlehealthalliance.com
SUMMARY:Holiday Treasure Fair
DESCRIPTION:Org Invite (1)Org Invite
URL:https://panhandlehealthalliance.com/event/holiday-treasure-fair/
ATTACH;FMTTYPE=image/png:https://panhandlehealthalliance.com/wp-content/uploads/2023/11/Holiday-Services-Fair-Flyer.png
END:VEVENT
BEGIN:VEVENT
DTSTART;TZID=UTC:20231214T110000
DTEND;TZID=UTC:20231214T130000
DTSTAMP:20260425T153045
CREATED:20231106T155117Z
LAST-MODIFIED:20231106T155117Z
UID:10000035-1702551600-1702558800@panhandlehealthalliance.com
SUMMARY:SART Meeting
DESCRIPTION:Location: Bay County Health Department 569 West 11th St\, Panama City FL\nTime: 11 AM CST\nContact: Marcia Croom (850) 866 2135 \nJoin Zoom Meeting\nhttps://us06web.zoom.us/j/8294548131
URL:https://panhandlehealthalliance.com/event/sart-meeting/
END:VEVENT
BEGIN:VEVENT
DTSTART;TZID=UTC:20231211T080000
DTEND;TZID=UTC:20231223T170000
DTSTAMP:20260425T153045
CREATED:20231208T150434Z
LAST-MODIFIED:20231208T150434Z
UID:10000067-1702281600-1703350800@panhandlehealthalliance.com
SUMMARY:Parker Elementary Clothes Donation
DESCRIPTION:
URL:https://panhandlehealthalliance.com/event/parker-elementary-clothes-donation/
ATTACH;FMTTYPE=image/png:https://panhandlehealthalliance.com/wp-content/uploads/2023/12/winter-clothing-002.png
END:VEVENT
BEGIN:VEVENT
DTSTART;TZID=UTC:20231211T080000
DTEND;TZID=UTC:20231214T170000
DTSTAMP:20260425T153045
CREATED:20231208T150944Z
LAST-MODIFIED:20231208T150944Z
UID:10000068-1702281600-1702573200@panhandlehealthalliance.com
SUMMARY:BEHAVIORAL HEALTH CARE AT WASHINGTON COUNTY LIBRARY
DESCRIPTION:
URL:https://panhandlehealthalliance.com/event/behavioral-health-care-at-washington-county-library/
ATTACH;FMTTYPE=application/pdf:https://panhandlehealthalliance.com/wp-content/uploads/2023/12/BH-Flyer-Ryan-white.pdf
END:VEVENT
BEGIN:VEVENT
DTSTART;TZID=UTC:20231201T040000
DTEND;TZID=UTC:20231201T200000
DTSTAMP:20260425T153045
CREATED:20231128T145737Z
LAST-MODIFIED:20231128T145737Z
UID:10000064-1701403200-1701460800@panhandlehealthalliance.com
SUMMARY:Denny's Fundraiser for Evers House
DESCRIPTION:
URL:https://panhandlehealthalliance.com/event/dennys-fundraiser-for-evers-house/
ATTACH;FMTTYPE=image/jpeg:https://panhandlehealthalliance.com/wp-content/uploads/2023/11/Dennys.jpg
END:VEVENT
BEGIN:VEVENT
DTSTART;TZID=UTC:20231130T163000
DTEND;TZID=UTC:20231130T190000
DTSTAMP:20260425T153045
CREATED:20231128T203857Z
LAST-MODIFIED:20231128T203857Z
UID:10000065-1701361800-1701370800@panhandlehealthalliance.com
SUMMARY:Candlelight Vigil. World AIDS Day
DESCRIPTION:
URL:https://panhandlehealthalliance.com/event/candlelight-vigil-world-aids-day/
ATTACH;FMTTYPE=image/jpeg:https://panhandlehealthalliance.com/wp-content/uploads/2023/11/WAD-Vigil-2023-Flyer2.jpg
END:VEVENT
BEGIN:VEVENT
DTSTART;TZID=UTC:20231128T080000
DTEND;TZID=UTC:20231209T170000
DTSTAMP:20260425T153045
CREATED:20231117T141420Z
LAST-MODIFIED:20231117T141420Z
UID:10000062-1701158400-1702141200@panhandlehealthalliance.com
SUMMARY:The Down Syndrome Association of the Emerald Coast 14th Annual Christmas Party
DESCRIPTION:Gross Motor Toys examples: pogo jumper\, balls\, steppingstones\, balance balls\, puzzles. \nCognition Toys examples: marbles\, sequence\, uno cards\, flash cards. \nPretend play examples: baby dolls\, play food\, action figures. \nFine Motor examples: coloring books\, crayons\, stickers\, pens\, journals \nThe first Year the sweet babies need soft cars\, crinkle books\, and musical toys. \nMiscellaneous: toilet lights for potty training\, timers to help kids visualize time\, weighted blanket for calming input. \nAll donations are greatly appreciated and can be dropped off at Gulf Coast Addiction Medicine 277 Forest Park Circle Panama City Florida 32405 or contact Jennifer Burkett 850-625-9213 for pick up.
URL:https://panhandlehealthalliance.com/event/the-down-syndrome-association-of-the-emerald-coast-14th-annual-christmas-party/
ATTACH;FMTTYPE=application/pdf:https://panhandlehealthalliance.com/wp-content/uploads/2023/11/Down-Syndrome-14th-Annual-Christmas-Party.pdf
END:VEVENT
BEGIN:VEVENT
DTSTART;TZID=UTC:20231120T080000
DTEND;TZID=UTC:20231225T170000
DTSTAMP:20260425T153045
CREATED:20231108T155111Z
LAST-MODIFIED:20231108T155111Z
UID:10000055-1700467200-1703523600@panhandlehealthalliance.com
SUMMARY:Bike Donation Parker Elementary
DESCRIPTION:
URL:https://panhandlehealthalliance.com/event/bike-donation-parker-elementary/
ATTACH;FMTTYPE=image/png:https://panhandlehealthalliance.com/wp-content/uploads/2023/11/We-Need-Your-Help-2.png
END:VEVENT
BEGIN:VEVENT
DTSTART;VALUE=DATE:20231120
DTEND;VALUE=DATE:20240201
DTSTAMP:20260425T153045
CREATED:20231108T153715Z
LAST-MODIFIED:20231108T153715Z
UID:10000051-1700438400-1706745599@panhandlehealthalliance.com
SUMMARY:Youth Helping Youth
DESCRIPTION:
URL:https://panhandlehealthalliance.com/event/youth-helping-youth/
ATTACH;FMTTYPE=application/pdf:https://panhandlehealthalliance.com/wp-content/uploads/2023/11/20310405185000194.pdf
END:VEVENT
BEGIN:VEVENT
DTSTART;VALUE=DATE:20231120
DTEND;VALUE=DATE:20231221
DTSTAMP:20260425T153045
CREATED:20231108T153501Z
LAST-MODIFIED:20231108T153501Z
UID:10000050-1700438400-1703116799@panhandlehealthalliance.com
SUMMARY:Free Carpentry Class
DESCRIPTION:
URL:https://panhandlehealthalliance.com/event/free-carpentry-class/
ATTACH;FMTTYPE=image/png:https://panhandlehealthalliance.com/wp-content/uploads/2023/11/MicrosoftTeams-image-27.png
END:VEVENT
BEGIN:VEVENT
DTSTART;TZID=UTC:20231118T190000
DTEND;TZID=UTC:20231118T230000
DTSTAMP:20260425T153045
CREATED:20231106T155850Z
LAST-MODIFIED:20231106T160341Z
UID:10000036-1700334000-1700348400@panhandlehealthalliance.com
SUMMARY:Casino Night
DESCRIPTION:Location: Todd Herendeen Theatre\, Panama City Beach FL\nTime: 7 PM – 11 PM CST Nov 18th\nContact: www.theunitedhp.org
URL:https://panhandlehealthalliance.com/event/casino-night/
ATTACH;FMTTYPE=image/jpeg:https://panhandlehealthalliance.com/wp-content/uploads/2023/11/Casino-Night-Flyer.jpeg
END:VEVENT
BEGIN:VEVENT
DTSTART;TZID=UTC:20231117T090000
DTEND;TZID=UTC:20231117T230000
DTSTAMP:20260425T153045
CREATED:20231117T141608Z
LAST-MODIFIED:20231117T141608Z
UID:10000063-1700211600-1700262000@panhandlehealthalliance.com
SUMMARY:Bay CHD Employee Flu Shots!
DESCRIPTION:Bay CHD will hold an Employee Flu Shot Clinic on Friday\, November 17th\, 2023 from 9:00am – 11:00am in the EPI Conference Room.  Please bring the attached form (completed) along with photo Id and insurance card with you.
URL:https://panhandlehealthalliance.com/event/bay-chd-employee-flu-shots/
ATTACH;FMTTYPE=application/pdf:https://panhandlehealthalliance.com/wp-content/uploads/2023/11/FluPod-Paperwork-2023.pdf
END:VEVENT
BEGIN:VEVENT
DTSTART;TZID=UTC:20231115T150000
DTEND;TZID=UTC:20231115T170000
DTSTAMP:20260425T153045
CREATED:20231114T154322Z
LAST-MODIFIED:20231114T154322Z
UID:10000061-1700060400-1700067600@panhandlehealthalliance.com
SUMMARY:Medicare Seminar
DESCRIPTION:
URL:https://panhandlehealthalliance.com/event/medicare-seminar/
ATTACH;FMTTYPE=application/pdf:https://panhandlehealthalliance.com/wp-content/uploads/2023/11/PruittHealth-Medicare-Seminar.pdf
END:VEVENT
BEGIN:VEVENT
DTSTART;TZID=UTC:20231110T080000
DTEND;TZID=UTC:20231110T170000
DTSTAMP:20260425T153045
CREATED:20231108T154236Z
LAST-MODIFIED:20231108T154236Z
UID:10000052-1699603200-1699635600@panhandlehealthalliance.com
SUMMARY:12th Annual Warrior Beach Retreat Food Event
DESCRIPTION:
URL:https://panhandlehealthalliance.com/event/12th-annual-warrior-beach-retreat-food-event/
ATTACH;FMTTYPE=image/jpeg:https://panhandlehealthalliance.com/wp-content/uploads/2023/11/20231018_102526-scaled.jpg
END:VEVENT
BEGIN:VEVENT
DTSTART;TZID=UTC:20231109T080000
DTEND;TZID=UTC:20231109T170000
DTSTAMP:20260425T153045
CREATED:20231108T153156Z
LAST-MODIFIED:20231108T153339Z
UID:10000049-1699516800-1699549200@panhandlehealthalliance.com
SUMMARY:Stand Up for Veterans (medical event)
DESCRIPTION:PanCare will host our annual STAND UP FOR VETERANS EVENT\, taking place across\nall PanCare dental and medical clinics on Thursday\, November 9\, 2023. This initiative is to express our\ndeep gratitude to the courageous men and women who have selflessly served our nation.\nWe understand the immense sacrifices made by veterans\, and our staff would like to give back to those\nwho have given so much. Veterans will have the opportunity to receive a complimentary dental\nexamination\, followed by one of the following services: cleaning\, filling\, or extraction\, all available at any\nof our PanCare dental clinics. Additionally\, Veterans can benefit from cost-free medical services\, which\ninclude general care and wellness exams.\nTo ensure that veterans receive the best possible care\, we recommend that they book appointments by\nreaching out to their preferred clinic before the event. While walk-ins are accommodated\, we\nrecommend scheduling appointments\, as space is limited. To confirm their veteran status\, participants\nwill need to bring their DD-214 documentation.\nMedia participation in this event is encouraged. We are open to interviews and coverage\, both recorded\nand live\, leading up to the event\, and on the day of the event. For media coordination\, please reach out\nto Kyle Merritt at 850-381.2990. We’re excited to collaborate with you to ensure area veterans can\nmake the most of these invaluable no-cost services.
URL:https://panhandlehealthalliance.com/event/stand-up-for-veterans-medical-event/
ATTACH;FMTTYPE=image/jpeg:https://panhandlehealthalliance.com/wp-content/uploads/2023/11/Flyer-Back-copy.jpg
END:VEVENT
BEGIN:VEVENT
DTSTART;TZID=UTC:20231109T080000
DTEND;TZID=UTC:20231109T170000
DTSTAMP:20260425T153045
CREATED:20231106T172839Z
LAST-MODIFIED:20231106T172839Z
UID:10000046-1699516800-1699549200@panhandlehealthalliance.com
SUMMARY:Family Engagement Roadtrip
DESCRIPTION:
URL:https://panhandlehealthalliance.com/event/family-engagement-roadtrip-4/
ATTACH;FMTTYPE=image/png:https://panhandlehealthalliance.com/wp-content/uploads/2023/11/FEM-ROADTRIP-11.9.png
END:VEVENT
BEGIN:VEVENT
DTSTART;TZID=UTC:20231108T080000
DTEND;TZID=UTC:20231225T170000
DTSTAMP:20260425T153045
CREATED:20231108T161304Z
LAST-MODIFIED:20231108T161304Z
UID:10000060-1699430400-1703523600@panhandlehealthalliance.com
SUMMARY:Parker Elementary Shoes Donations!
DESCRIPTION:
URL:https://panhandlehealthalliance.com/event/parker-elementary-shoes-donations/
ATTACH;FMTTYPE=image/png:https://panhandlehealthalliance.com/wp-content/uploads/2023/11/Shoes-Need-Flyer.png
END:VEVENT
BEGIN:VEVENT
DTSTART;TZID=UTC:20231108T080000
DTEND;TZID=UTC:20231201T170000
DTSTAMP:20260425T153045
CREATED:20231108T152501Z
LAST-MODIFIED:20231108T152501Z
UID:10000047-1699430400-1701450000@panhandlehealthalliance.com
SUMMARY:Mobile Behavioral Health
DESCRIPTION:
URL:https://panhandlehealthalliance.com/event/mobile-behavioral-health/
ATTACH;FMTTYPE=application/pdf:https://panhandlehealthalliance.com/wp-content/uploads/2023/11/November-2023-Flyer.pdf
END:VEVENT
BEGIN:VEVENT
DTSTART;TZID=UTC:20231108T080000
DTEND;TZID=UTC:20231108T170000
DTSTAMP:20260425T153045
CREATED:20231108T152754Z
LAST-MODIFIED:20231108T152826Z
UID:10000048-1699430400-1699462800@panhandlehealthalliance.com
SUMMARY:Diabetes 5K FREE Color Splash Walk/Run
DESCRIPTION:Location: Callaway Recreational Complex\, 504 Callaway Park Way Panama City\, FL 32404\nTime: November 18th · 10am – 2pm CST
URL:https://panhandlehealthalliance.com/event/635/
ATTACH;FMTTYPE=image/jpeg:https://panhandlehealthalliance.com/wp-content/uploads/2023/11/https___cdn.evbuc_.com_images_596255569_188426922721_1_original.jpg
END:VEVENT
END:VCALENDAR