BEGIN:VCALENDAR
VERSION:2.0
PRODID:-//Panhandle Health Alliance - ECPv6.4.0//NONSGML v1.0//EN
CALSCALE:GREGORIAN
METHOD:PUBLISH
X-WR-CALNAME:Panhandle Health Alliance
X-ORIGINAL-URL:https://panhandlehealthalliance.com
X-WR-CALDESC:Events for Panhandle Health Alliance
REFRESH-INTERVAL;VALUE=DURATION:PT1H
X-Robots-Tag:noindex
X-PUBLISHED-TTL:PT1H
BEGIN:VTIMEZONE
TZID:UTC
BEGIN:STANDARD
TZOFFSETFROM:+0000
TZOFFSETTO:+0000
TZNAME:UTC
DTSTART:20230101T000000
END:STANDARD
END:VTIMEZONE
BEGIN:VEVENT
DTSTART;TZID=UTC:20231108T080000
DTEND;TZID=UTC:20231108T170000
DTSTAMP:20260425T160226
CREATED:20231108T152754Z
LAST-MODIFIED:20231108T152826Z
UID:10000048-1699430400-1699462800@panhandlehealthalliance.com
SUMMARY:Diabetes 5K FREE Color Splash Walk/Run
DESCRIPTION:Location: Callaway Recreational Complex\, 504 Callaway Park Way Panama City\, FL 32404\nTime: November 18th · 10am – 2pm CST
URL:https://panhandlehealthalliance.com/event/635/
ATTACH;FMTTYPE=image/jpeg:https://panhandlehealthalliance.com/wp-content/uploads/2023/11/https___cdn.evbuc_.com_images_596255569_188426922721_1_original.jpg
END:VEVENT
BEGIN:VEVENT
DTSTART;TZID=UTC:20231108T080000
DTEND;TZID=UTC:20231108T170000
DTSTAMP:20260425T160226
CREATED:20231106T172816Z
LAST-MODIFIED:20231106T172816Z
UID:10000045-1699430400-1699462800@panhandlehealthalliance.com
SUMMARY:Family Engagement Roadtrip
DESCRIPTION:
URL:https://panhandlehealthalliance.com/event/family-engagement-roadtrip-3/
ATTACH;FMTTYPE=image/png:https://panhandlehealthalliance.com/wp-content/uploads/2023/11/FEM-ROADTRIP-11.8.png
END:VEVENT
BEGIN:VEVENT
DTSTART;TZID=UTC:20231107T080000
DTEND;TZID=UTC:20231107T170000
DTSTAMP:20260425T160226
CREATED:20231106T172739Z
LAST-MODIFIED:20231106T172739Z
UID:10000044-1699344000-1699376400@panhandlehealthalliance.com
SUMMARY:Family Engagement Roadtrip
DESCRIPTION:
URL:https://panhandlehealthalliance.com/event/family-engagement-roadtrip-2/
ATTACH;FMTTYPE=image/png:https://panhandlehealthalliance.com/wp-content/uploads/2023/11/FEM-ROADTRIP-11.7.png
END:VEVENT
BEGIN:VEVENT
DTSTART;TZID=UTC:20231106T080000
DTEND;TZID=UTC:20231106T170000
DTSTAMP:20260425T160226
CREATED:20231106T172711Z
LAST-MODIFIED:20231106T172711Z
UID:10000043-1699257600-1699290000@panhandlehealthalliance.com
SUMMARY:Family Engagement Roadtrip
DESCRIPTION:
URL:https://panhandlehealthalliance.com/event/family-engagement-roadtrip/
ATTACH;FMTTYPE=image/png:https://panhandlehealthalliance.com/wp-content/uploads/2023/11/FEM-ROADTRIP-11.6.png
END:VEVENT
BEGIN:VEVENT
DTSTART;VALUE=DATE:20231101
DTEND;VALUE=DATE:20231102
DTSTAMP:20260425T160226
CREATED:20231108T160333Z
LAST-MODIFIED:20231108T160333Z
UID:10000058-1698796800-1698883199@panhandlehealthalliance.com
SUMMARY:Oxford House New Homes!
DESCRIPTION:Florida Newsletter
URL:https://panhandlehealthalliance.com/event/oxford-house-new-homes/
ATTACH;FMTTYPE=application/pdf:https://panhandlehealthalliance.com/wp-content/uploads/2023/11/New-House-Flyer-.pdf
END:VEVENT
BEGIN:VEVENT
DTSTART;TZID=UTC:20231031T080000
DTEND;TZID=UTC:20231031T170000
DTSTAMP:20260425T160226
CREATED:20231108T160628Z
LAST-MODIFIED:20231108T160628Z
UID:10000059-1698739200-1698771600@panhandlehealthalliance.com
SUMMARY:The Effects of Tobacco Use and Vaping During Pregnancy
DESCRIPTION:
URL:https://panhandlehealthalliance.com/event/the-effects-of-tobacco-use-and-vaping-during-pregnancy/
ATTACH;FMTTYPE=application/pdf:https://panhandlehealthalliance.com/wp-content/uploads/2023/11/HS-Lunch-Learn-Oct-31st.pdf
END:VEVENT
BEGIN:VEVENT
DTSTART;TZID=UTC:20231015T080000
DTEND;TZID=UTC:20231015T170000
DTSTAMP:20260425T160226
CREATED:20231108T155343Z
LAST-MODIFIED:20231108T155343Z
UID:10000057-1697356800-1697389200@panhandlehealthalliance.com
SUMMARY:Chrysalis Health
DESCRIPTION:
URL:https://panhandlehealthalliance.com/event/chrysalis-health/
ATTACH;FMTTYPE=application/pdf:https://panhandlehealthalliance.com/wp-content/uploads/2023/11/7761_chrysalis-health_FTS-_-CH-Communication-2.pdf
END:VEVENT
BEGIN:VEVENT
DTSTART;TZID=UTC:20231010T090000
DTEND;TZID=UTC:20231010T170000
DTSTAMP:20260425T160226
CREATED:20230630T132439Z
LAST-MODIFIED:20230630T132439Z
UID:10000025-1696928400-1696957200@panhandlehealthalliance.com
SUMMARY:United Way of Northwest Florida Affiliated Agency (UWNFL)
DESCRIPTION:Location: United Way of Northwest Florida 602 Harrison Ave\, Panama City\, FL 32401\nTime: 9:00 AM CST   Once a Quarter on every second Thursday\nContact: Gina Littleton (850) 252-0482 GLittleton@UnitedWayNWFL.org
URL:https://panhandlehealthalliance.com/event/united-way-of-northwest-florida-affiliated-agency-uwnfl/
END:VEVENT
BEGIN:VEVENT
DTSTART;TZID=UTC:20231009T090000
DTEND;TZID=UTC:20231009T170000
DTSTAMP:20260425T160226
CREATED:20231108T155238Z
LAST-MODIFIED:20231108T155238Z
UID:10000056-1696842000-1696870800@panhandlehealthalliance.com
SUMMARY:Threads of Hope Clothing Donation Event
DESCRIPTION:
URL:https://panhandlehealthalliance.com/event/threads-of-hope-clothing-donation-event/
ATTACH;FMTTYPE=application/pdf:https://panhandlehealthalliance.com/wp-content/uploads/2023/11/Threads-of-Hope.pdf
END:VEVENT
BEGIN:VEVENT
DTSTART;TZID=UTC:20231004T090000
DTEND;TZID=UTC:20231004T120000
DTSTAMP:20260425T160226
CREATED:20231108T154847Z
LAST-MODIFIED:20231108T154847Z
UID:10000054-1696410000-1696420800@panhandlehealthalliance.com
SUMMARY:Memory Loss Workshop
DESCRIPTION:
URL:https://panhandlehealthalliance.com/event/memory-loss-workshop/
ATTACH;FMTTYPE=application/pdf:https://panhandlehealthalliance.com/wp-content/uploads/2023/11/Memory-Loss-Workshop-Flyer.pdf
END:VEVENT
BEGIN:VEVENT
DTSTART;TZID=UTC:20230929T140000
DTEND;TZID=UTC:20230929T170000
DTSTAMP:20260425T160226
CREATED:20230629T201512Z
LAST-MODIFIED:20230629T201512Z
UID:10000021-1695996000-1696006800@panhandlehealthalliance.com
SUMMARY:Parents As Teachers Advisory
DESCRIPTION:Location: Venue Changes\nTime: 2 PM CST  Once a quarter\nContact: Stephanie Wood (850) 819-0198  stephanie.wood@bayhealthystart.org
URL:https://panhandlehealthalliance.com/event/parents-as-teachers-advisory/
END:VEVENT
BEGIN:VEVENT
DTSTART;TZID=UTC:20230929T113000
DTEND;TZID=UTC:20230929T170000
DTSTAMP:20260425T160226
CREATED:20230629T192630Z
LAST-MODIFIED:20230629T192630Z
UID:10000011-1695987000-1696006800@panhandlehealthalliance.com
SUMMARY:Bay County Tobacco Free Partnership (TFP)
DESCRIPTION:Location: Lunch Meeting: Usually at a restaurant (O’ Charley’s or Olive Garden)\nTime: 11:30 CST TBA on date\ncontacts: Martha Collier 8502529634  martha.collier@flhealth.gov\n          Bonnie Steelman 8505413821  bonnie.steelman@flhealth.gov
URL:https://panhandlehealthalliance.com/event/bay-county-tobacco-free-partnership-tfp/
END:VEVENT
BEGIN:VEVENT
DTSTART;TZID=UTC:20230929T090000
DTEND;TZID=UTC:20230929T170000
DTSTAMP:20260425T160226
CREATED:20230629T201613Z
LAST-MODIFIED:20230629T201613Z
UID:10000022-1695978000-1696006800@panhandlehealthalliance.com
SUMMARY:Respect Awareness Prevention (RAP) Advisory Task Force
DESCRIPTION:Location: TBA\nTime: 9 AM CST Once a Quarter\nContact: Valerie Hutchison (850) 785-1088\, ext 138 Valerie.Hutchison@basicnwfl.com
URL:https://panhandlehealthalliance.com/event/respect-awareness-prevention-rap-advisory-task-force/
END:VEVENT
BEGIN:VEVENT
DTSTART;TZID=UTC:20230920T100000
DTEND;TZID=UTC:20230922T120000
DTSTAMP:20260425T160226
CREATED:20230629T202024Z
LAST-MODIFIED:20230629T202024Z
UID:10000024-1695204000-1695384000@panhandlehealthalliance.com
SUMMARY:Student Health Advisory Committee
DESCRIPTION:Location: TBA\nTime: 10 AM CST. 4 meetings a year held in Sept\, Nov\, Feb\, and April. contact Cherie for invites\nContact: Cherie Crim (214) 679-8502 shacbcfl@gmail.com
URL:https://panhandlehealthalliance.com/event/student-health-advisory-committee/
END:VEVENT
BEGIN:VEVENT
DTSTART;TZID=UTC:20230915T100000
DTEND;TZID=UTC:20230915T170000
DTSTAMP:20260425T160226
CREATED:20230629T201758Z
LAST-MODIFIED:20230629T201818Z
UID:10000023-1694772000-1694797200@panhandlehealthalliance.com
SUMMARY:Bay County Sexual Assault Response Team (SART)
DESCRIPTION:Location: Gulf Coast Child Advocacy Center 210 E 11th St\, Panama City\, FL 32401 *Virtual Option\nTime: 10 AM Once a Quarter\nContact: Chrystal Cook (850) 381-5307   Chrystal.cook@gulfcoastsap.org
URL:https://panhandlehealthalliance.com/event/bay-county-sexual-assault-response-team-sart/
END:VEVENT
BEGIN:VEVENT
DTSTART;TZID=UTC:20230902T090000
DTEND;TZID=UTC:20230902T140000
DTSTAMP:20260425T160226
CREATED:20230620T220536Z
LAST-MODIFIED:20230620T220536Z
UID:10000008-1693645200-1693663200@panhandlehealthalliance.com
SUMMARY:Collard Festival
DESCRIPTION:
URL:https://panhandlehealthalliance.com/event/collard-festival/
ATTACH;FMTTYPE=image/png:https://panhandlehealthalliance.com/wp-content/uploads/2023/05/2nd-sept.png
END:VEVENT
BEGIN:VEVENT
DTSTART;TZID=UTC:20230821T083000
DTEND;TZID=UTC:20230821T100000
DTSTAMP:20260425T160226
CREATED:20230817T160033Z
LAST-MODIFIED:20230817T160033Z
UID:10000034-1692606600-1692612000@panhandlehealthalliance.com
SUMMARY:Sexual Assualt Response Team (SART) Meeting
DESCRIPTION:Location: Calhoun County Courthouse\, Blountstown\nTime: August 21st\, 8:30am EST\nContact: Marcia Croom 850-866-2135 \nJoin Zoom Meeting https://us06web.zoom.us/j/8294548131 Meeting ID: 829 454 8131 — One tap mobile +13052241968\,\,8294548131# US +19294362866\,\,8294548131# US (New York)
URL:https://panhandlehealthalliance.com/event/sexual-assualt-response-team-sart-meeting/
END:VEVENT
BEGIN:VEVENT
DTSTART;TZID=UTC:20230816T100000
DTEND;TZID=UTC:20230816T170000
DTSTAMP:20260425T160226
CREATED:20230630T134735Z
LAST-MODIFIED:20230630T134735Z
UID:10000029-1692180000-1692205200@panhandlehealthalliance.com
SUMMARY:Panhandle Health Alliance (PHA) meetings
DESCRIPTION:Location: Bay County Library Conference Room\, 898 W. 11th St\, Panama City 32401\nTime: 10 AM CST August 16 2023\nContact: Contact: Brandy Mankin 850.252.9632
URL:https://panhandlehealthalliance.com/event/panhandle-health-alliance-pha-meetings/
END:VEVENT
BEGIN:VEVENT
DTSTART;TZID=UTC:20230729T100000
DTEND;TZID=UTC:20230729T170000
DTSTAMP:20260425T160226
CREATED:20230620T220122Z
LAST-MODIFIED:20230620T220122Z
UID:10000006-1690624800-1690650000@panhandlehealthalliance.com
SUMMARY:Annual Community Event
DESCRIPTION:Waller Elementary would like to invite you to our annual Community Event. This event was put together to help bring community resources that are available within Bay County to have direct contact with our local Waller families. Local agencies will be able to provide much-needed resources or informational brochures for our families. Our event will be held on July 29th\, Saturday between 10 am and noon. Would you like us to reserve you a table and canopy?
URL:https://panhandlehealthalliance.com/event/annual-community-event/
END:VEVENT
BEGIN:VEVENT
DTSTART;TZID=UTC:20230729T080000
DTEND;TZID=UTC:20230729T093000
DTSTAMP:20260425T160226
CREATED:20230620T220337Z
LAST-MODIFIED:20230620T220420Z
UID:10000007-1690617600-1690623000@panhandlehealthalliance.com
SUMMARY:Beach Clean Up
DESCRIPTION:
URL:https://panhandlehealthalliance.com/event/beach-clean-up/
ATTACH;FMTTYPE=image/png:https://panhandlehealthalliance.com/wp-content/uploads/2023/05/july-29.png
END:VEVENT
BEGIN:VEVENT
DTSTART;TZID=UTC:20230728T090000
DTEND;TZID=UTC:20230728T110000
DTSTAMP:20260425T160226
CREATED:20230629T193752Z
LAST-MODIFIED:20230629T193752Z
UID:10000015-1690534800-1690542000@panhandlehealthalliance.com
SUMMARY:Community Adult Protective Task Force Meeting (CAPT)
DESCRIPTION:Location: United Way of Northwest Florida 602 Harrison Ave\, Panama City\, FL 32401\nTime: 9 AM Last Friday of every month\nContact: Pat Sabiston (850) 832-3034 director@crossingpathsbay.org
URL:https://panhandlehealthalliance.com/event/community-adult-protective-task-force-meeting-capt/
END:VEVENT
BEGIN:VEVENT
DTSTART;TZID=UTC:20230727T110000
DTEND;TZID=UTC:20230727T130000
DTSTAMP:20260425T160226
CREATED:20230629T194654Z
LAST-MODIFIED:20230629T194654Z
UID:10000016-1690455600-1690462800@panhandlehealthalliance.com
SUMMARY:Community of Care
DESCRIPTION:Location: TBA\nTime: 1 PM CST Every 4th Thursday of the month\nContact: Ken Chisholm (850) 767-5551 chishkl@bay.k12.fl.us
URL:https://panhandlehealthalliance.com/event/community-of-care/
END:VEVENT
BEGIN:VEVENT
DTSTART;TZID=UTC:20230727T090000
DTEND;TZID=UTC:20230727T110000
DTSTAMP:20260425T160226
CREATED:20230629T200947Z
LAST-MODIFIED:20230629T200947Z
UID:10000019-1690448400-1690455600@panhandlehealthalliance.com
SUMMARY:Fetal Infant Mortality Review Project (FIMR)
DESCRIPTION:Location: HCA Florida Gulf Coast Hospital 449 W. 23RD Street\, Panama City\, FL 32405 (2nd Floor NICU Waiting Room\nTime 9 AM  Last Thursday of the month\nContact: Kelly Byrns-Davis (850) 872-4130 Ext. 102  kelly@healthystartbfg.org
URL:https://panhandlehealthalliance.com/event/fetal-infant-mortality-review-project-fimr/
END:VEVENT
BEGIN:VEVENT
DTSTART;TZID=UTC:20230726T080000
DTEND;TZID=UTC:20230726T170000
DTSTAMP:20260425T160226
CREATED:20230629T201143Z
LAST-MODIFIED:20230629T201143Z
UID:10000020-1690358400-1690390800@panhandlehealthalliance.com
SUMMARY:Bay County Interagency Healthy Start BFG
DESCRIPTION:Location: Venue changes\nTime: TBA time. Bimonthly on the 4th wednesday of the month\nContact: Sharon Trainor 1(800) 895-9506 ext. 101  sharon@healthystartbfg.org
URL:https://panhandlehealthalliance.com/event/bay-county-interagency-healthy-start-bfg/
END:VEVENT
BEGIN:VEVENT
DTSTART;TZID=UTC:20230721T083000
DTEND;TZID=UTC:20230721T170000
DTSTAMP:20260425T160226
CREATED:20230620T215947Z
LAST-MODIFIED:20230620T215947Z
UID:10000005-1689928200-1689958800@panhandlehealthalliance.com
SUMMARY:Panhandle Health Alliance Board Meetings
DESCRIPTION:Panhandle Health Alliance Board Meetings: Point of Contact: Brandy Mankin 850.252.9632; Location: Disability Resource Center\, 300 W. 5th St; Time: 8:30am; Occurrence: July 21st and the 3rd Friday of every month. Also available via Zoom: Join Zoom Meeting \nMeeting ID: 727 1873 1430 \nPasscode: 1Fjx3j \nCoatlion-Partnership Meeting Catalog
URL:https://panhandlehealthalliance.com/event/panhandle-health-alliance-board-meetings/
END:VEVENT
BEGIN:VEVENT
DTSTART;TZID=UTC:20230721T083000
DTEND;TZID=UTC:20230721T093000
DTSTAMP:20260425T160226
CREATED:20230630T135349Z
LAST-MODIFIED:20230630T135349Z
UID:10000033-1689928200-1689931800@panhandlehealthalliance.com
SUMMARY:Panhandle Health Alliance Board Meeting
DESCRIPTION:Location: 300 W 5th St\, Panama City\, FL 32401\nTime:  8:30 to 9:30    Third Friday of every month\nContact: Brandy Mankin 850.252.9632
URL:https://panhandlehealthalliance.com/event/panhandle-health-alliance-board-meeting/
END:VEVENT
BEGIN:VEVENT
DTSTART;TZID=UTC:20230720T110000
DTEND;TZID=UTC:20230720T170000
DTSTAMP:20260425T160226
CREATED:20230629T192919Z
LAST-MODIFIED:20230629T192919Z
UID:10000013-1689850800-1689872400@panhandlehealthalliance.com
SUMMARY:Circuit 14 Human Trafficking Task Force (HTTF)
DESCRIPTION:Location: Gulf Coast Child Advocacy Center 210 E 11th St\, Panama City\, FL 32401 *Virtual Option\nTime: 11 AM CST  Third Thursday of Every month\nContact: Laurie Lawrence (850) 770-2249 llawrence@pc.fsu.edu
URL:https://panhandlehealthalliance.com/event/circuit-14-human-trafficking-task-force-httf/
END:VEVENT
BEGIN:VEVENT
DTSTART;TZID=UTC:20230718T133000
DTEND;TZID=UTC:20230718T150000
DTSTAMP:20260425T160226
CREATED:20230629T194941Z
LAST-MODIFIED:20230629T194941Z
UID:10000017-1689687000-1689692400@panhandlehealthalliance.com
SUMMARY:Community Re-Entry Team Meeting (CRT)
DESCRIPTION:Location: TBA\nTime: 1:30 pm CST  Third Tuesday of every month\ncontact: Heather Nowell (850) 509-5766 Heather.Nowell@fldjj.gov
URL:https://panhandlehealthalliance.com/event/community-re-entry-team-meeting-crt/
END:VEVENT
BEGIN:VEVENT
DTSTART;TZID=UTC:20230718T083000
DTEND;TZID=UTC:20230718T083000
DTSTAMP:20260425T160226
CREATED:20230630T133533Z
LAST-MODIFIED:20230630T133533Z
UID:10000028-1689669000-1689669000@panhandlehealthalliance.com
SUMMARY:Mental Health Summit
DESCRIPTION:Location: Emerald Coast Behavioral Hospital 1940 Harrison Ave\, Panama City\, FL 32405 *Virtual Option\nTime: 8:30 AM CST   Third Tuesday of Every Month\nContact: Craig Segrest Craig.Segrest@uhsinc.com
URL:https://panhandlehealthalliance.com/event/mental-health-summit/
END:VEVENT
BEGIN:VEVENT
DTSTART;TZID=UTC:20230712T100000
DTEND;TZID=UTC:20230712T120000
DTSTAMP:20260425T160226
CREATED:20230629T195136Z
LAST-MODIFIED:20230629T195136Z
UID:10000018-1689156000-1689163200@panhandlehealthalliance.com
SUMMARY:Northwest Florida Continuum of Care (CoC)
DESCRIPTION:Location: Grace Presbyterian Church1415 Airport Rd\, Panama City\, FL 32405 *Drive around the back\, the meeting is held in the conference room at the back of the church\nTime: 10 AM CST  Second Wednesday of the month\nContact: Kristina Reich (850) 215-8800 director@doorwaysnwfl.org\n         Shelley Frazier (850) 630-9082 outreach@doorwaysnwfl.org
URL:https://panhandlehealthalliance.com/event/northwest-florida-continuum-of-care-coc/
END:VEVENT
END:VCALENDAR