BEGIN:VCALENDAR
VERSION:2.0
PRODID:-//Panhandle Health Alliance - ECPv6.4.0//NONSGML v1.0//EN
CALSCALE:GREGORIAN
METHOD:PUBLISH
X-WR-CALNAME:Panhandle Health Alliance
X-ORIGINAL-URL:https://panhandlehealthalliance.com
X-WR-CALDESC:Events for Panhandle Health Alliance
REFRESH-INTERVAL;VALUE=DURATION:PT1H
X-Robots-Tag:noindex
X-PUBLISHED-TTL:PT1H
BEGIN:VTIMEZONE
TZID:UTC
BEGIN:STANDARD
TZOFFSETFROM:+0000
TZOFFSETTO:+0000
TZNAME:UTC
DTSTART:20230101T000000
END:STANDARD
END:VTIMEZONE
BEGIN:VEVENT
DTSTART;TZID=UTC:20230617T100000
DTEND;TZID=UTC:20230617T140000
DTSTAMP:20260425T150622
CREATED:20230620T212429Z
LAST-MODIFIED:20230620T220953Z
UID:10000001-1686996000-1687010400@panhandlehealthalliance.com
SUMMARY:Blood Drive and Health Fair
DESCRIPTION:
URL:https://panhandlehealthalliance.com/event/june-17-2023/
ATTACH;FMTTYPE=image/png:https://panhandlehealthalliance.com/wp-content/uploads/2023/05/17-jun.png
END:VEVENT
BEGIN:VEVENT
DTSTART;TZID=UTC:20230515T100000
DTEND;TZID=UTC:20230515T170000
DTSTAMP:20260425T150622
CREATED:20230630T135141Z
LAST-MODIFIED:20230630T135141Z
UID:10000032-1684144800-1684170000@panhandlehealthalliance.com
SUMMARY:Panhandle Health Alliance (PHA) meetings
DESCRIPTION:Location: TBA\nTime: 10 AM    May 15 2024\nContact: Brandy Mankin 850.252.9632
URL:https://panhandlehealthalliance.com/event/panhandle-health-alliance-pha-meetings-4/
END:VEVENT
BEGIN:VEVENT
DTSTART;TZID=UTC:20230310T100000
DTEND;TZID=UTC:20230310T170000
DTSTAMP:20260425T150622
CREATED:20230630T135044Z
LAST-MODIFIED:20230630T135044Z
UID:10000031-1678442400-1678467600@panhandlehealthalliance.com
SUMMARY:Panhandle Health Alliance (PHA) meetings
DESCRIPTION:Location: TBA\nTime: 10 AM   March 20th 2024\nContact: Brandy Mankin 850.252.9632
URL:https://panhandlehealthalliance.com/event/panhandle-health-alliance-pha-meetings-3/
END:VEVENT
BEGIN:VEVENT
DTSTART;TZID=UTC:20230117T100000
DTEND;TZID=UTC:20230117T170000
DTSTAMP:20260425T150622
CREATED:20230630T134936Z
LAST-MODIFIED:20230630T134936Z
UID:10000030-1673949600-1673974800@panhandlehealthalliance.com
SUMMARY:Panhandle Health Alliance (PHA) meetings
DESCRIPTION:Location: TBA\nTime: 10 AM Jan 17 2024\nContact: Contact: Brandy Mankin 850.252.9632
URL:https://panhandlehealthalliance.com/event/panhandle-health-alliance-pha-meetings-2/
END:VEVENT
END:VCALENDAR