BEGIN:VCALENDAR
VERSION:2.0
PRODID:-//Panhandle Health Alliance - ECPv6.4.0//NONSGML v1.0//EN
CALSCALE:GREGORIAN
METHOD:PUBLISH
X-WR-CALNAME:Panhandle Health Alliance
X-ORIGINAL-URL:https://panhandlehealthalliance.com
X-WR-CALDESC:Events for Panhandle Health Alliance
REFRESH-INTERVAL;VALUE=DURATION:PT1H
X-Robots-Tag:noindex
X-PUBLISHED-TTL:PT1H
BEGIN:VTIMEZONE
TZID:UTC
BEGIN:STANDARD
TZOFFSETFROM:+0000
TZOFFSETTO:+0000
TZNAME:UTC
DTSTART:20240101T000000
END:STANDARD
END:VTIMEZONE
BEGIN:VEVENT
DTSTART;TZID=UTC:20250228T180000
DTEND;TZID=UTC:20250228T200000
DTSTAMP:20260423T185329
CREATED:20240502T194355Z
LAST-MODIFIED:20240502T194829Z
UID:10000174-1740765600-1740772800@panhandlehealthalliance.com
SUMMARY:Inspired For Excellence Girls Mentoring
DESCRIPTION:
URL:https://panhandlehealthalliance.com/event/inspired-for-excellence-girls-mentoring-2/2025-02-28/
ATTACH;FMTTYPE=image/jpeg:https://panhandlehealthalliance.com/wp-content/uploads/2024/05/Flyer-Inspired-for-Excellence-Girls-Mentoring_page-0001.jpg
END:VEVENT
BEGIN:VEVENT
DTSTART;TZID=UTC:20250226T160000
DTEND;TZID=UTC:20250226T220000
DTSTAMP:20260423T185329
CREATED:20240510T211636Z
LAST-MODIFIED:20240510T211636Z
UID:10000188-1740585600-1740607200@panhandlehealthalliance.com
SUMMARY:Alzheimer's Support Group
DESCRIPTION:Last Wednesday of every month at Superior Residencies\, starts at 4:00
URL:https://panhandlehealthalliance.com/event/alzheimers-support-group/2025-02-26/
ATTACH;FMTTYPE=image/jpeg:https://panhandlehealthalliance.com/wp-content/uploads/2024/05/Dementia-.jpg
END:VEVENT
BEGIN:VEVENT
DTSTART;TZID=UTC:20250214T180000
DTEND;TZID=UTC:20250214T200000
DTSTAMP:20260423T185329
CREATED:20240502T192510Z
LAST-MODIFIED:20240502T194002Z
UID:10000147-1739556000-1739563200@panhandlehealthalliance.com
SUMMARY:Inspired For Excellence Girls Mentoring
DESCRIPTION:
URL:https://panhandlehealthalliance.com/event/inspired-for-excellence-girls-mentoring/2025-02-14/
END:VEVENT
BEGIN:VEVENT
DTSTART;TZID=UTC:20250129T160000
DTEND;TZID=UTC:20250129T220000
DTSTAMP:20260423T185329
CREATED:20240510T211636Z
LAST-MODIFIED:20240510T211636Z
UID:10000187-1738166400-1738188000@panhandlehealthalliance.com
SUMMARY:Alzheimer's Support Group
DESCRIPTION:Last Wednesday of every month at Superior Residencies\, starts at 4:00
URL:https://panhandlehealthalliance.com/event/alzheimers-support-group/2025-01-29/
ATTACH;FMTTYPE=image/jpeg:https://panhandlehealthalliance.com/wp-content/uploads/2024/05/Dementia-.jpg
END:VEVENT
BEGIN:VEVENT
DTSTART;TZID=UTC:20250124T180000
DTEND;TZID=UTC:20250124T200000
DTSTAMP:20260423T185329
CREATED:20240502T194355Z
LAST-MODIFIED:20240502T194829Z
UID:10000173-1737741600-1737748800@panhandlehealthalliance.com
SUMMARY:Inspired For Excellence Girls Mentoring
DESCRIPTION:
URL:https://panhandlehealthalliance.com/event/inspired-for-excellence-girls-mentoring-2/2025-01-24/
ATTACH;FMTTYPE=image/jpeg:https://panhandlehealthalliance.com/wp-content/uploads/2024/05/Flyer-Inspired-for-Excellence-Girls-Mentoring_page-0001.jpg
END:VEVENT
BEGIN:VEVENT
DTSTART;TZID=UTC:20250110T180000
DTEND;TZID=UTC:20250110T200000
DTSTAMP:20260423T185329
CREATED:20240502T192510Z
LAST-MODIFIED:20240502T194002Z
UID:10000164-1736532000-1736539200@panhandlehealthalliance.com
SUMMARY:Inspired For Excellence Girls Mentoring
DESCRIPTION:
URL:https://panhandlehealthalliance.com/event/inspired-for-excellence-girls-mentoring/2025-01-10/
END:VEVENT
BEGIN:VEVENT
DTSTART;TZID=UTC:20241227T180000
DTEND;TZID=UTC:20241227T200000
DTSTAMP:20260423T185329
CREATED:20240502T194355Z
LAST-MODIFIED:20240502T194829Z
UID:10000172-1735322400-1735329600@panhandlehealthalliance.com
SUMMARY:Inspired For Excellence Girls Mentoring
DESCRIPTION:
URL:https://panhandlehealthalliance.com/event/inspired-for-excellence-girls-mentoring-2/2024-12-27/
ATTACH;FMTTYPE=image/jpeg:https://panhandlehealthalliance.com/wp-content/uploads/2024/05/Flyer-Inspired-for-Excellence-Girls-Mentoring_page-0001.jpg
END:VEVENT
BEGIN:VEVENT
DTSTART;TZID=UTC:20241225T160000
DTEND;TZID=UTC:20241225T220000
DTSTAMP:20260423T185329
CREATED:20240510T211636Z
LAST-MODIFIED:20240510T211636Z
UID:10000186-1735142400-1735164000@panhandlehealthalliance.com
SUMMARY:Alzheimer's Support Group
DESCRIPTION:Last Wednesday of every month at Superior Residencies\, starts at 4:00
URL:https://panhandlehealthalliance.com/event/alzheimers-support-group/2024-12-25/
ATTACH;FMTTYPE=image/jpeg:https://panhandlehealthalliance.com/wp-content/uploads/2024/05/Dementia-.jpg
END:VEVENT
BEGIN:VEVENT
DTSTART;TZID=UTC:20241219T083000
DTEND;TZID=UTC:20241219T110000
DTSTAMP:20260423T185329
CREATED:20240502T182255Z
LAST-MODIFIED:20240502T182255Z
UID:10000126-1734597000-1734606000@panhandlehealthalliance.com
SUMMARY:Interagency Meeting
DESCRIPTION:3rd Thursday of every month at the Nazarene church off of Michigan ave starts at 830
URL:https://panhandlehealthalliance.com/event/interagency-meeting-8/
END:VEVENT
BEGIN:VEVENT
DTSTART;TZID=UTC:20241213T180000
DTEND;TZID=UTC:20241213T200000
DTSTAMP:20260423T185329
CREATED:20240502T192510Z
LAST-MODIFIED:20240502T194002Z
UID:10000163-1734112800-1734120000@panhandlehealthalliance.com
SUMMARY:Inspired For Excellence Girls Mentoring
DESCRIPTION:
URL:https://panhandlehealthalliance.com/event/inspired-for-excellence-girls-mentoring/2024-12-13/
END:VEVENT
BEGIN:VEVENT
DTSTART;TZID=UTC:20241127T160000
DTEND;TZID=UTC:20241127T220000
DTSTAMP:20260423T185329
CREATED:20240510T211636Z
LAST-MODIFIED:20240510T211636Z
UID:10000185-1732723200-1732744800@panhandlehealthalliance.com
SUMMARY:Alzheimer's Support Group
DESCRIPTION:Last Wednesday of every month at Superior Residencies\, starts at 4:00
URL:https://panhandlehealthalliance.com/event/alzheimers-support-group/2024-11-27/
ATTACH;FMTTYPE=image/jpeg:https://panhandlehealthalliance.com/wp-content/uploads/2024/05/Dementia-.jpg
END:VEVENT
BEGIN:VEVENT
DTSTART;TZID=UTC:20241122T180000
DTEND;TZID=UTC:20241122T200000
DTSTAMP:20260423T185329
CREATED:20240502T194355Z
LAST-MODIFIED:20240502T194829Z
UID:10000171-1732298400-1732305600@panhandlehealthalliance.com
SUMMARY:Inspired For Excellence Girls Mentoring
DESCRIPTION:
URL:https://panhandlehealthalliance.com/event/inspired-for-excellence-girls-mentoring-2/2024-11-22/
ATTACH;FMTTYPE=image/jpeg:https://panhandlehealthalliance.com/wp-content/uploads/2024/05/Flyer-Inspired-for-Excellence-Girls-Mentoring_page-0001.jpg
END:VEVENT
BEGIN:VEVENT
DTSTART;TZID=UTC:20241121T083000
DTEND;TZID=UTC:20241121T103000
DTSTAMP:20260423T185329
CREATED:20240502T182234Z
LAST-MODIFIED:20240502T182234Z
UID:10000125-1732177800-1732185000@panhandlehealthalliance.com
SUMMARY:Interagency Meeting
DESCRIPTION:3rd Thursday of every month at the Nazarene church off of Michigan ave starts at 830
URL:https://panhandlehealthalliance.com/event/interagency-meeting-7/
END:VEVENT
BEGIN:VEVENT
DTSTART;TZID=UTC:20241120T100000
DTEND;TZID=UTC:20241120T113000
DTSTAMP:20260423T185329
CREATED:20240207T154822Z
LAST-MODIFIED:20240207T154822Z
UID:10000107-1732096800-1732102200@panhandlehealthalliance.com
SUMMARY:Panhandle Health Alliance Nov Meeting
DESCRIPTION:The meeting will commence at the Bay County Library (898 W.11th St.\, Panama City) \n10AM \nFor those that prefer to join virtually\, please utilize the ZOOM link below: \nhttps://us06web.zoom.us/j/83639066577
URL:https://panhandlehealthalliance.com/event/panhandle-health-alliance-nov-meeting/
END:VEVENT
BEGIN:VEVENT
DTSTART;TZID=UTC:20241108T180000
DTEND;TZID=UTC:20241108T200000
DTSTAMP:20260423T185329
CREATED:20240502T192510Z
LAST-MODIFIED:20240502T194002Z
UID:10000142-1731088800-1731096000@panhandlehealthalliance.com
SUMMARY:Inspired For Excellence Girls Mentoring
DESCRIPTION:
URL:https://panhandlehealthalliance.com/event/inspired-for-excellence-girls-mentoring/2024-11-08/
END:VEVENT
BEGIN:VEVENT
DTSTART;TZID=UTC:20241106T110000
DTEND;TZID=UTC:20241106T153000
DTSTAMP:20260423T185329
CREATED:20240116T170415Z
LAST-MODIFIED:20240116T170415Z
UID:10000088-1730890800-1730907000@panhandlehealthalliance.com
SUMMARY:Transportation Planning Organization (TPO) November Meeting
DESCRIPTION:
URL:https://panhandlehealthalliance.com/event/transportation-planning-organization-tpo-november-meeting/
ATTACH;FMTTYPE=application/pdf:https://panhandlehealthalliance.com/wp-content/uploads/2024/01/BAY-TPO-Meeting-Schedule-2024-4.pdf
END:VEVENT
BEGIN:VEVENT
DTSTART;TZID=UTC:20241030T160000
DTEND;TZID=UTC:20241030T220000
DTSTAMP:20260423T185329
CREATED:20240510T211636Z
LAST-MODIFIED:20240510T211636Z
UID:10000184-1730304000-1730325600@panhandlehealthalliance.com
SUMMARY:Alzheimer's Support Group
DESCRIPTION:Last Wednesday of every month at Superior Residencies\, starts at 4:00
URL:https://panhandlehealthalliance.com/event/alzheimers-support-group/2024-10-30/
ATTACH;FMTTYPE=image/jpeg:https://panhandlehealthalliance.com/wp-content/uploads/2024/05/Dementia-.jpg
END:VEVENT
BEGIN:VEVENT
DTSTART;TZID=UTC:20241025T180000
DTEND;TZID=UTC:20241025T200000
DTSTAMP:20260423T185329
CREATED:20240502T194355Z
LAST-MODIFIED:20240502T194829Z
UID:10000170-1729879200-1729886400@panhandlehealthalliance.com
SUMMARY:Inspired For Excellence Girls Mentoring
DESCRIPTION:
URL:https://panhandlehealthalliance.com/event/inspired-for-excellence-girls-mentoring-2/2024-10-25/
ATTACH;FMTTYPE=image/jpeg:https://panhandlehealthalliance.com/wp-content/uploads/2024/05/Flyer-Inspired-for-Excellence-Girls-Mentoring_page-0001.jpg
END:VEVENT
BEGIN:VEVENT
DTSTART;TZID=UTC:20241017T083000
DTEND;TZID=UTC:20241017T103000
DTSTAMP:20260423T185329
CREATED:20240502T182209Z
LAST-MODIFIED:20240502T182209Z
UID:10000124-1729153800-1729161000@panhandlehealthalliance.com
SUMMARY:Interagency Meeting
DESCRIPTION:3rd Thursday of every month at the Nazarene church off of Michigan ave starts at 830
URL:https://panhandlehealthalliance.com/event/interagency-meeting-6/
END:VEVENT
BEGIN:VEVENT
DTSTART;TZID=UTC:20241011T180000
DTEND;TZID=UTC:20241011T200000
DTSTAMP:20260423T185329
CREATED:20240502T192510Z
LAST-MODIFIED:20240502T194002Z
UID:10000141-1728669600-1728676800@panhandlehealthalliance.com
SUMMARY:Inspired For Excellence Girls Mentoring
DESCRIPTION:
URL:https://panhandlehealthalliance.com/event/inspired-for-excellence-girls-mentoring/2024-10-11/
END:VEVENT
BEGIN:VEVENT
DTSTART;TZID=UTC:20241004T110000
DTEND;TZID=UTC:20241004T150000
DTSTAMP:20260423T185329
CREATED:20240116T164755Z
LAST-MODIFIED:20240116T164755Z
UID:10000080-1728039600-1728054000@panhandlehealthalliance.com
SUMMARY:Women's Civic Club Wellness Event
DESCRIPTION:
URL:https://panhandlehealthalliance.com/event/womens-civic-club-wellness-event/
ATTACH;FMTTYPE=application/pdf:https://panhandlehealthalliance.com/wp-content/uploads/2024/01/Publication1.pdf
END:VEVENT
BEGIN:VEVENT
DTSTART;TZID=UTC:20240927T180000
DTEND;TZID=UTC:20240927T200000
DTSTAMP:20260423T185329
CREATED:20240502T194355Z
LAST-MODIFIED:20240502T194829Z
UID:10000169-1727460000-1727467200@panhandlehealthalliance.com
SUMMARY:Inspired For Excellence Girls Mentoring
DESCRIPTION:
URL:https://panhandlehealthalliance.com/event/inspired-for-excellence-girls-mentoring-2/2024-09-27/
ATTACH;FMTTYPE=image/jpeg:https://panhandlehealthalliance.com/wp-content/uploads/2024/05/Flyer-Inspired-for-Excellence-Girls-Mentoring_page-0001.jpg
END:VEVENT
BEGIN:VEVENT
DTSTART;TZID=UTC:20240925T160000
DTEND;TZID=UTC:20240925T220000
DTSTAMP:20260423T185329
CREATED:20240510T211636Z
LAST-MODIFIED:20240510T211636Z
UID:10000183-1727280000-1727301600@panhandlehealthalliance.com
SUMMARY:Alzheimer's Support Group
DESCRIPTION:Last Wednesday of every month at Superior Residencies\, starts at 4:00
URL:https://panhandlehealthalliance.com/event/alzheimers-support-group/2024-09-25/
ATTACH;FMTTYPE=image/jpeg:https://panhandlehealthalliance.com/wp-content/uploads/2024/05/Dementia-.jpg
END:VEVENT
BEGIN:VEVENT
DTSTART;TZID=UTC:20240919T083000
DTEND;TZID=UTC:20240919T133000
DTSTAMP:20260423T185329
CREATED:20240502T182146Z
LAST-MODIFIED:20240502T182146Z
UID:10000123-1726734600-1726752600@panhandlehealthalliance.com
SUMMARY:Interagency Meeting
DESCRIPTION:3rd Thursday of every month at the Nazarene church off of Michigan ave starts at 830
URL:https://panhandlehealthalliance.com/event/interagency-meeting-5/
END:VEVENT
BEGIN:VEVENT
DTSTART;TZID=UTC:20240918T100000
DTEND;TZID=UTC:20240918T130000
DTSTAMP:20260423T185329
CREATED:20240207T154719Z
LAST-MODIFIED:20240207T154719Z
UID:10000106-1726653600-1726664400@panhandlehealthalliance.com
SUMMARY:Panhandle Health Alliance Sept Meeting
DESCRIPTION:The meeting will commence at the Bay County Library (898 W.11th St.\, Panama City) \n10am \n  \nFor those that prefer to join virtually\, please utilize the ZOOM link below: \nhttps://us06web.zoom.us/j/83639066577
URL:https://panhandlehealthalliance.com/event/panhandle-health-alliance-sept-meeting/
END:VEVENT
BEGIN:VEVENT
DTSTART;TZID=UTC:20240913T180000
DTEND;TZID=UTC:20240913T200000
DTSTAMP:20260423T185329
CREATED:20240502T192510Z
LAST-MODIFIED:20240502T194002Z
UID:10000154-1726250400-1726257600@panhandlehealthalliance.com
SUMMARY:Inspired For Excellence Girls Mentoring
DESCRIPTION:
URL:https://panhandlehealthalliance.com/event/inspired-for-excellence-girls-mentoring/2024-09-13/
END:VEVENT
BEGIN:VEVENT
DTSTART;TZID=UTC:20240828T160000
DTEND;TZID=UTC:20240828T220000
DTSTAMP:20260423T185329
CREATED:20240510T211636Z
LAST-MODIFIED:20240510T211636Z
UID:10000182-1724860800-1724882400@panhandlehealthalliance.com
SUMMARY:Alzheimer's Support Group
DESCRIPTION:Last Wednesday of every month at Superior Residencies\, starts at 4:00
URL:https://panhandlehealthalliance.com/event/alzheimers-support-group/2024-08-28/
ATTACH;FMTTYPE=image/jpeg:https://panhandlehealthalliance.com/wp-content/uploads/2024/05/Dementia-.jpg
END:VEVENT
BEGIN:VEVENT
DTSTART;TZID=UTC:20240828T160000
DTEND;TZID=UTC:20240828T180000
DTSTAMP:20260423T185329
CREATED:20240516T172140Z
LAST-MODIFIED:20240516T172153Z
UID:10000258-1724860800-1724868000@panhandlehealthalliance.com
SUMMARY:Teen Game Night
DESCRIPTION:Wednesdays\, June 26\, July 31\, and August 28 from 4 – 6 p.m. CT\nPlay various Switch games in the Meeting Room.\nNo registration required for this Teen program.
URL:https://panhandlehealthalliance.com/event/teen-game-night/2024-08-28/
END:VEVENT
BEGIN:VEVENT
DTSTART;TZID=UTC:20240824T003000
DTEND;TZID=UTC:20240824T160000
DTSTAMP:20260423T185329
CREATED:20240516T170758Z
LAST-MODIFIED:20240516T170758Z
UID:10000247-1724459400-1724515200@panhandlehealthalliance.com
SUMMARY:Family Game Day (Families with Children Ages 6 and up)
DESCRIPTION:Saturdays\, June 22\, July 27\, and August 24\nfrom 12:30 – 4:00 p.m. CT Mario Kart & Board Games. Parents must stay with their children. Program in the Meeting Room.
URL:https://panhandlehealthalliance.com/event/family-game-day-families-with-children-ages-6-and-up/2024-08-24/
END:VEVENT
BEGIN:VEVENT
DTSTART;TZID=UTC:20240823T180000
DTEND;TZID=UTC:20240823T200000
DTSTAMP:20260423T185329
CREATED:20240502T194355Z
LAST-MODIFIED:20240502T194829Z
UID:10000168-1724436000-1724443200@panhandlehealthalliance.com
SUMMARY:Inspired For Excellence Girls Mentoring
DESCRIPTION:
URL:https://panhandlehealthalliance.com/event/inspired-for-excellence-girls-mentoring-2/2024-08-23/
ATTACH;FMTTYPE=image/jpeg:https://panhandlehealthalliance.com/wp-content/uploads/2024/05/Flyer-Inspired-for-Excellence-Girls-Mentoring_page-0001.jpg
END:VEVENT
END:VCALENDAR