BEGIN:VCALENDAR
VERSION:2.0
PRODID:-//Panhandle Health Alliance - ECPv6.4.0//NONSGML v1.0//EN
CALSCALE:GREGORIAN
METHOD:PUBLISH
X-WR-CALNAME:Panhandle Health Alliance
X-ORIGINAL-URL:https://panhandlehealthalliance.com
X-WR-CALDESC:Events for Panhandle Health Alliance
REFRESH-INTERVAL;VALUE=DURATION:PT1H
X-Robots-Tag:noindex
X-PUBLISHED-TTL:PT1H
BEGIN:VTIMEZONE
TZID:UTC
BEGIN:STANDARD
TZOFFSETFROM:+0000
TZOFFSETTO:+0000
TZNAME:UTC
DTSTART:20240101T000000
END:STANDARD
END:VTIMEZONE
BEGIN:VEVENT
DTSTART;TZID=UTC:20240720T080000
DTEND;TZID=UTC:20240720T160000
DTSTAMP:20260424T084000
CREATED:20240502T195525Z
LAST-MODIFIED:20240502T195710Z
UID:10000178-1721462400-1721491200@panhandlehealthalliance.com
SUMMARY:2nd Annual STEMental Summit
DESCRIPTION:
URL:https://panhandlehealthalliance.com/event/2nd-annual-stemental-summit/
ATTACH;FMTTYPE=image/jpeg:https://panhandlehealthalliance.com/wp-content/uploads/2024/05/STEMental-2024-Flyer.jpg
END:VEVENT
BEGIN:VEVENT
DTSTART;TZID=UTC:20240718T083000
DTEND;TZID=UTC:20240718T110000
DTSTAMP:20260424T084000
CREATED:20240502T182101Z
LAST-MODIFIED:20240502T182101Z
UID:10000121-1721291400-1721300400@panhandlehealthalliance.com
SUMMARY:Interagency Meeting
DESCRIPTION:3rd Thursday of every month at the Nazarene church off of Michigan ave starts at 830
URL:https://panhandlehealthalliance.com/event/interagency-meeting-3/
END:VEVENT
BEGIN:VEVENT
DTSTART;TZID=UTC:20240717T100000
DTEND;TZID=UTC:20240717T110000
DTSTAMP:20260424T084000
CREATED:20240207T154626Z
LAST-MODIFIED:20240207T154626Z
UID:10000105-1721210400-1721214000@panhandlehealthalliance.com
SUMMARY:Panhandle Health Alliance July Meeting
DESCRIPTION:Panhandle Health Alliance May Meeting \n10 AM \nFor those that prefer to join virtually\, please utilize the ZOOM link below: \n\nhttps://us06web.zoom.us/j/83639066577
URL:https://panhandlehealthalliance.com/event/panhandle-health-alliance-july-meeting/
END:VEVENT
BEGIN:VEVENT
DTSTART;TZID=UTC:20240712T180000
DTEND;TZID=UTC:20240712T200000
DTSTAMP:20260424T084000
CREATED:20240502T192510Z
LAST-MODIFIED:20240502T194002Z
UID:10000161-1720807200-1720814400@panhandlehealthalliance.com
SUMMARY:Inspired For Excellence Girls Mentoring
DESCRIPTION:
URL:https://panhandlehealthalliance.com/event/inspired-for-excellence-girls-mentoring/2024-07-12/
END:VEVENT
BEGIN:VEVENT
DTSTART;TZID=UTC:20240712T140000
DTEND;TZID=UTC:20240712T160000
DTSTAMP:20260424T084000
CREATED:20240516T172245Z
LAST-MODIFIED:20240516T172245Z
UID:10000259-1720792800-1720800000@panhandlehealthalliance.com
SUMMARY:Adulting Adventure: Meal Planning (Ages 14-18)
DESCRIPTION:Tuesday\, July 2 from 2 – 4 p.m. CT\nLearn how to meal plan\, grocery shop on a budget\, and make microwave brownies. Please bring one microwave safe mug to use.
URL:https://panhandlehealthalliance.com/event/adulting-adventure-meal-planning-ages-14-18/
END:VEVENT
BEGIN:VEVENT
DTSTART;TZID=UTC:20240710T140000
DTEND;TZID=UTC:20240710T170000
DTSTAMP:20260424T084000
CREATED:20240516T183627Z
LAST-MODIFIED:20240516T183714Z
UID:10000266-1720620000-1720630800@panhandlehealthalliance.com
SUMMARY:Library Olympics
DESCRIPTION:
URL:https://panhandlehealthalliance.com/event/library-olympics/
END:VEVENT
BEGIN:VEVENT
DTSTART;TZID=UTC:20240710T140000
DTEND;TZID=UTC:20240710T140000
DTSTAMP:20260424T084000
CREATED:20240516T171149Z
LAST-MODIFIED:20240516T171203Z
UID:10000250-1720620000-1720620000@panhandlehealthalliance.com
SUMMARY:Adventures in Library Olympics
DESCRIPTION:Wednesday\, July 10 at 2 p.m. CT\nHelp us celebrate the Summer Olympics and the end of our Summer Reading Program with library-style Olympic games!
URL:https://panhandlehealthalliance.com/event/adventures-in-library-olympics/
END:VEVENT
BEGIN:VEVENT
DTSTART;TZID=UTC:20240709T140000
DTEND;TZID=UTC:20240709T160000
DTSTAMP:20260424T084000
CREATED:20240516T172326Z
LAST-MODIFIED:20240516T172329Z
UID:10000260-1720533600-1720540800@panhandlehealthalliance.com
SUMMARY:VR Adventure Party (Ages 14-18)
DESCRIPTION:Tuesday\, July 9 from 2 – 4 p.m. CT\nPlay video games on our VR console and make crafts!
URL:https://panhandlehealthalliance.com/event/vr-adventure-party-ages-14-18/
END:VEVENT
BEGIN:VEVENT
DTSTART;TZID=UTC:20240708T073000
DTEND;TZID=UTC:20240712T173000
DTSTAMP:20260424T084000
CREATED:20240502T191201Z
LAST-MODIFIED:20240502T191201Z
UID:10000130-1720423800-1720805400@panhandlehealthalliance.com
SUMMARY:Ebgineering Ingenuity - Session 3
DESCRIPTION:
URL:https://panhandlehealthalliance.com/event/ebgineering-ingenuity-session-3/
ATTACH;FMTTYPE=image/jpeg:https://panhandlehealthalliance.com/wp-content/uploads/2024/05/Summer-Camp-Unlimited-scaled.jpg
END:VEVENT
BEGIN:VEVENT
DTSTART;TZID=UTC:20240703T140000
DTEND;TZID=UTC:20240703T140000
DTSTAMP:20260424T084000
CREATED:20240516T183601Z
LAST-MODIFIED:20240516T183846Z
UID:10000265-1720015200-1720015200@panhandlehealthalliance.com
SUMMARY:Adventures on Safari: Animal Tales
DESCRIPTION:
URL:https://panhandlehealthalliance.com/event/adventures-on-safari-animal-tales/
END:VEVENT
BEGIN:VEVENT
DTSTART;TZID=UTC:20240703T140000
DTEND;TZID=UTC:20240703T140000
DTSTAMP:20260424T084000
CREATED:20240516T171054Z
LAST-MODIFIED:20240516T171054Z
UID:10000249-1720015200-1720015200@panhandlehealthalliance.com
SUMMARY:Adventures on Safari (Animal Tales: ZooSafari)
DESCRIPTION:Wednesday\, July 3 at 2 p.m. CT\nOur friends from Animal Tales will educate\, entertain\, and inspire by sharing animals from around the world.
URL:https://panhandlehealthalliance.com/event/adventures-on-safari-animal-tales-zoosafari/
END:VEVENT
BEGIN:VEVENT
DTSTART;TZID=UTC:20240628T180000
DTEND;TZID=UTC:20240628T200000
DTSTAMP:20260424T084000
CREATED:20240502T194355Z
LAST-MODIFIED:20240502T194829Z
UID:10000166-1719597600-1719604800@panhandlehealthalliance.com
SUMMARY:Inspired For Excellence Girls Mentoring
DESCRIPTION:
URL:https://panhandlehealthalliance.com/event/inspired-for-excellence-girls-mentoring-2/2024-06-28/
ATTACH;FMTTYPE=image/jpeg:https://panhandlehealthalliance.com/wp-content/uploads/2024/05/Flyer-Inspired-for-Excellence-Girls-Mentoring_page-0001.jpg
END:VEVENT
BEGIN:VEVENT
DTSTART;TZID=UTC:20240626T160000
DTEND;TZID=UTC:20240626T220000
DTSTAMP:20260424T084000
CREATED:20240510T211636Z
LAST-MODIFIED:20240510T211636Z
UID:10000180-1719417600-1719439200@panhandlehealthalliance.com
SUMMARY:Alzheimer's Support Group
DESCRIPTION:Last Wednesday of every month at Superior Residencies\, starts at 4:00
URL:https://panhandlehealthalliance.com/event/alzheimers-support-group/2024-06-26/
ATTACH;FMTTYPE=image/jpeg:https://panhandlehealthalliance.com/wp-content/uploads/2024/05/Dementia-.jpg
END:VEVENT
BEGIN:VEVENT
DTSTART;TZID=UTC:20240626T160000
DTEND;TZID=UTC:20240626T180000
DTSTAMP:20260424T084000
CREATED:20240516T172140Z
LAST-MODIFIED:20240516T172153Z
UID:10000256-1719417600-1719424800@panhandlehealthalliance.com
SUMMARY:Teen Game Night
DESCRIPTION:Wednesdays\, June 26\, July 31\, and August 28 from 4 – 6 p.m. CT\nPlay various Switch games in the Meeting Room.\nNo registration required for this Teen program.
URL:https://panhandlehealthalliance.com/event/teen-game-night/2024-06-26/
END:VEVENT
BEGIN:VEVENT
DTSTART;TZID=UTC:20240626T140000
DTEND;TZID=UTC:20240626T140000
DTSTAMP:20260424T084000
CREATED:20240516T183539Z
LAST-MODIFIED:20240516T184151Z
UID:10000264-1719410400-1719410400@panhandlehealthalliance.com
SUMMARY:Adventures in the Dark
DESCRIPTION:
URL:https://panhandlehealthalliance.com/event/adventures-in-the-dark/
END:VEVENT
BEGIN:VEVENT
DTSTART;TZID=UTC:20240626T140000
DTEND;TZID=UTC:20240626T140000
DTSTAMP:20260424T084000
CREATED:20240516T170953Z
LAST-MODIFIED:20240516T170953Z
UID:10000248-1719410400-1719410400@panhandlehealthalliance.com
SUMMARY:Adventures in the Dark (Registration Required)
DESCRIPTION:Wednesday\, June 26 at 2 p.m. CT\nWe’re bringing the popular online game Among Us to life! Work together with your crewmates to complete tasks–but watch out\, there’s an imposter among us. Will you survive?\nRegistration required. Call 850-522-2118 to register or visit the YS desk.
URL:https://panhandlehealthalliance.com/event/adventures-in-the-dark-registration-required/
END:VEVENT
BEGIN:VEVENT
DTSTART;TZID=UTC:20240626T110000
DTEND;TZID=UTC:20240626T153000
DTSTAMP:20260424T084000
CREATED:20240116T170224Z
LAST-MODIFIED:20240116T170224Z
UID:10000086-1719399600-1719415800@panhandlehealthalliance.com
SUMMARY:Transportation Planning Organization (TPO) June Meeting
DESCRIPTION:
URL:https://panhandlehealthalliance.com/event/transportation-planning-organization-tpo-june-meeting/
ATTACH;FMTTYPE=application/pdf:https://panhandlehealthalliance.com/wp-content/uploads/2024/01/BAY-TPO-Meeting-Schedule-2024-2.pdf
END:VEVENT
BEGIN:VEVENT
DTSTART;TZID=UTC:20240625T140000
DTEND;TZID=UTC:20240625T140000
DTSTAMP:20260424T084000
CREATED:20240516T171904Z
LAST-MODIFIED:20240516T171904Z
UID:10000255-1719324000-1719324000@panhandlehealthalliance.com
SUMMARY:Constellation Jars (Ages 12-17)
DESCRIPTION:Tuesday\, June 25 at 2 p.m. CT\nTurn recycled glass jars into constellation lanterns!
URL:https://panhandlehealthalliance.com/event/constellation-jars-ages-12-17/
END:VEVENT
BEGIN:VEVENT
DTSTART;TZID=UTC:20240624T073000
DTEND;TZID=UTC:20240628T173000
DTSTAMP:20260424T084000
CREATED:20240502T191050Z
LAST-MODIFIED:20240502T191050Z
UID:10000129-1719214200-1719595800@panhandlehealthalliance.com
SUMMARY:Riveting Robotics - Session 2
DESCRIPTION:
URL:https://panhandlehealthalliance.com/event/riveting-robotics-session-2/
ATTACH;FMTTYPE=image/jpeg:https://panhandlehealthalliance.com/wp-content/uploads/2024/05/Summer-Camp-Unlimited-scaled.jpg
END:VEVENT
BEGIN:VEVENT
DTSTART;TZID=UTC:20240622T003000
DTEND;TZID=UTC:20240622T160000
DTSTAMP:20260424T084000
CREATED:20240516T170758Z
LAST-MODIFIED:20240516T170758Z
UID:10000245-1719016200-1719072000@panhandlehealthalliance.com
SUMMARY:Family Game Day (Families with Children Ages 6 and up)
DESCRIPTION:Saturdays\, June 22\, July 27\, and August 24\nfrom 12:30 – 4:00 p.m. CT Mario Kart & Board Games. Parents must stay with their children. Program in the Meeting Room.
URL:https://panhandlehealthalliance.com/event/family-game-day-families-with-children-ages-6-and-up/2024-06-22/
END:VEVENT
BEGIN:VEVENT
DTSTART;TZID=UTC:20240620T083000
DTEND;TZID=UTC:20240620T103000
DTSTAMP:20260424T084000
CREATED:20240502T182040Z
LAST-MODIFIED:20240502T182040Z
UID:10000120-1718872200-1718879400@panhandlehealthalliance.com
SUMMARY:Interagency Meeting
DESCRIPTION:3rd Thursday of every month at the Nazarene church off of Michigan ave starts at 830
URL:https://panhandlehealthalliance.com/event/interagency-meeting-2/
END:VEVENT
BEGIN:VEVENT
DTSTART;TZID=UTC:20240619T140000
DTEND;TZID=UTC:20240619T140000
DTSTAMP:20260424T084000
CREATED:20240516T183514Z
LAST-MODIFIED:20240516T183913Z
UID:10000263-1718805600-1718805600@panhandlehealthalliance.com
SUMMARY:Adventures in Fantasy
DESCRIPTION:
URL:https://panhandlehealthalliance.com/event/adventures-in-fantasy-2/
END:VEVENT
BEGIN:VEVENT
DTSTART;TZID=UTC:20240619T140000
DTEND;TZID=UTC:20240619T140000
DTSTAMP:20260424T084000
CREATED:20240516T170112Z
LAST-MODIFIED:20240516T170131Z
UID:10000244-1718805600-1718805600@panhandlehealthalliance.com
SUMMARY:Adventures in Fantasy
DESCRIPTION:Wednesday\, June 19 at 2 p.m. CT\nHear ye\, hear ye! Join us for a Renaissance Faire at the library! Enjoy live music\, crafts\, and Ye Olde Storytime. Feel free to dress up in family-friendly medieval attire!
URL:https://panhandlehealthalliance.com/event/adventures-in-fantasy/
END:VEVENT
BEGIN:VEVENT
DTSTART;TZID=UTC:20240618T140000
DTEND;TZID=UTC:20240618T140000
DTSTAMP:20260424T084000
CREATED:20240516T171818Z
LAST-MODIFIED:20240516T171818Z
UID:10000254-1718719200-1718719200@panhandlehealthalliance.com
SUMMARY:D&D Map Making (Ages 12-17)
DESCRIPTION:Tuesday\, June 18 at 2 p.m. CT\nLearn how to create a fictional map for role playing games or your own fantasy world.
URL:https://panhandlehealthalliance.com/event/dd-map-making-ages-12-17/
END:VEVENT
BEGIN:VEVENT
DTSTART;TZID=UTC:20240614T180000
DTEND;TZID=UTC:20240614T200000
DTSTAMP:20260424T084000
CREATED:20240502T192510Z
LAST-MODIFIED:20240502T194002Z
UID:10000160-1718388000-1718395200@panhandlehealthalliance.com
SUMMARY:Inspired For Excellence Girls Mentoring
DESCRIPTION:
URL:https://panhandlehealthalliance.com/event/inspired-for-excellence-girls-mentoring/2024-06-14/
END:VEVENT
BEGIN:VEVENT
DTSTART;TZID=UTC:20240612T140000
DTEND;TZID=UTC:20240612T140000
DTSTAMP:20260424T084000
CREATED:20240516T183441Z
LAST-MODIFIED:20240516T183925Z
UID:10000262-1718200800-1718200800@panhandlehealthalliance.com
SUMMARY:Adventures on the High Seas
DESCRIPTION:
URL:https://panhandlehealthalliance.com/event/adventures-on-the-high-seas-2/
END:VEVENT
BEGIN:VEVENT
DTSTART;TZID=UTC:20240611T140000
DTEND;TZID=UTC:20240611T170000
DTSTAMP:20260424T084000
CREATED:20240516T171645Z
LAST-MODIFIED:20240516T171645Z
UID:10000253-1718114400-1718125200@panhandlehealthalliance.com
SUMMARY:Make Your Own Journal (Ages 12-17)
DESCRIPTION:Tuesday\, June 11 at 2 p.m. CT\nMake your own journal or notebook out of provided supplies!
URL:https://panhandlehealthalliance.com/event/make-your-own-journal-ages-12-17/
END:VEVENT
BEGIN:VEVENT
DTSTART;TZID=UTC:20240606T080000
DTEND;TZID=UTC:20240718T103000
DTSTAMP:20260424T084000
CREATED:20240516T165612Z
LAST-MODIFIED:20240516T165612Z
UID:10000242-1717660800-1721298600@panhandlehealthalliance.com
SUMMARY:Bay County Public Library Early Literary Programming
DESCRIPTION:Preschool Storytime (Ages 3 – 5 with Caregiver) \nThursdays during June 6 – July 18 at 10:30 a.m. CT Enjoy books\, songs\, and rhymes while building early literacy skills. **No class on July 4th.
URL:https://panhandlehealthalliance.com/event/bay-county-public-library-early-literary-programming/
END:VEVENT
BEGIN:VEVENT
DTSTART;TZID=UTC:20240605T140000
DTEND;TZID=UTC:20240605T140000
DTSTAMP:20260424T084000
CREATED:20240516T165755Z
LAST-MODIFIED:20240516T165800Z
UID:10000243-1717596000-1717596000@panhandlehealthalliance.com
SUMMARY:School Aged Children's Programming
DESCRIPTION:Adventure Begins @ Your Library Summer Kickoff:\nAdventures in Nature \nWednesday\, June 5 at 2 p.m. CT\nLocal performer Miss Calliope is helping us kick off the summer with an interactive singalong show “From the Soil to the Stars”! We will also have games and activities available throughout the week\, including a rubber duck scavenger hunt.
URL:https://panhandlehealthalliance.com/event/school-aged-childrens-programming/
END:VEVENT
BEGIN:VEVENT
DTSTART;TZID=UTC:20240605T080000
DTEND;TZID=UTC:20240605T170000
DTSTAMP:20260424T084000
CREATED:20240516T183421Z
LAST-MODIFIED:20240516T190039Z
UID:10000261-1717574400-1717606800@panhandlehealthalliance.com
SUMMARY:Adventures in Nature
DESCRIPTION:
URL:https://panhandlehealthalliance.com/event/adventures-in-nature/
END:VEVENT
END:VCALENDAR